Workbook

Sheet YR Girls - JUN
A1: Youth Ranking Girls - Juniors | E1: 2024-2025
A2: Place | B2: Id | C2: Player | D2: Category | E2: NJC / CNJ 1 | F2: NJC / CNJ 2 | G2: NJC / CNJ 3 | H2: CB / BK | I2: TOP 12 | J2: TOTAL
A3: 1 | B3: 149447 | C3: =CONCATENATE(VLOOKUP(VALUE(B3),'Listing Players'!A:I,2,FALSE)," ",VLOOKUP(VALUE(B3),'Listing Players'!A:I,3,FALSE)," - ",VLOOKUP(VALUE(B3),'Listing Players'!A:I,4,FALSE)," - ",VLOOKUP(VALUE(B3),'Listing Players'!A:I,5,FALSE)) -> LAFFINEUR LILLY - N051 - A10 | D3: =VLOOKUP(VALUE(B3),'Listing Players'!A:I,8,FALSE) -> JUN3 | E3: 75 | F3: 0 | G3: 0 | H3: 0 | I3: 0 | J3: =SUM(LARGE(E3:G3,1), LARGE(E3:G3,2),H3:I3) -> 75
A4: 2 | B4: 518894 | C4: =CONCATENATE(VLOOKUP(VALUE(B4),'Listing Players'!A:I,2,FALSE)," ",VLOOKUP(VALUE(B4),'Listing Players'!A:I,3,FALSE)," - ",VLOOKUP(VALUE(B4),'Listing Players'!A:I,4,FALSE)," - ",VLOOKUP(VALUE(B4),'Listing Players'!A:I,5,FALSE)) -> NUYTTENS LOTTE - Vl-B234 - A16 | D4: =VLOOKUP(VALUE(B4),'Listing Players'!A:I,8,FALSE) -> JUN2 | E4: 70 | F4: 0 | G4: 0 | H4: 0 | I4: 0 | J4: =SUM(LARGE(E4:G4,1), LARGE(E4:G4,2),H4:I4) -> 70
A5: 3 | B5: 524238 | C5: =CONCATENATE(VLOOKUP(VALUE(B5),'Listing Players'!A:I,2,FALSE)," ",VLOOKUP(VALUE(B5),'Listing Players'!A:I,3,FALSE)," - ",VLOOKUP(VALUE(B5),'Listing Players'!A:I,4,FALSE)," - ",VLOOKUP(VALUE(B5),'Listing Players'!A:I,5,FALSE)) -> LEWYCKYJ LESSIA - Vl-B283 - B0 | D5: =VLOOKUP(VALUE(B5),'Listing Players'!A:I,8,FALSE) -> JUN2 | E5: 65 | F5: 0 | G5: 0 | H5: 0 | I5: 0 | J5: =SUM(LARGE(E5:G5,1), LARGE(E5:G5,2),H5:I5) -> 65
A6: 4 | B6: 525908 | C6: =CONCATENATE(VLOOKUP(VALUE(B6),'Listing Players'!A:I,2,FALSE)," ",VLOOKUP(VALUE(B6),'Listing Players'!A:I,3,FALSE)," - ",VLOOKUP(VALUE(B6),'Listing Players'!A:I,4,FALSE)," - ",VLOOKUP(VALUE(B6),'Listing Players'!A:I,5,FALSE)) -> DE MEYER KATHE - Vl-B234 - B0 | D6: =VLOOKUP(VALUE(B6),'Listing Players'!A:I,8,FALSE) -> JUN2 | E6: 60 | F6: 0 | G6: 0 | H6: 0 | I6: 0 | J6: =SUM(LARGE(E6:G6,1), LARGE(E6:G6,2),H6:I6) -> 60
A7: 5 | B7: 152494 | C7: =CONCATENATE(VLOOKUP(VALUE(B7),'Listing Players'!A:I,2,FALSE)," ",VLOOKUP(VALUE(B7),'Listing Players'!A:I,3,FALSE)," - ",VLOOKUP(VALUE(B7),'Listing Players'!A:I,4,FALSE)," - ",VLOOKUP(VALUE(B7),'Listing Players'!A:I,5,FALSE)) -> ROMAIN ANAIS - N051 - B2 | D7: =VLOOKUP(VALUE(B7),'Listing Players'!A:I,8,FALSE) -> JUN3 | E7: 55 | F7: 0 | G7: 0 | H7: 0 | I7: 0 | J7: =SUM(LARGE(E7:G7,1), LARGE(E7:G7,2),H7:I7) -> 55
A8: 6 | B8: 524538 | C8: =CONCATENATE(VLOOKUP(VALUE(B8),'Listing Players'!A:I,2,FALSE)," ",VLOOKUP(VALUE(B8),'Listing Players'!A:I,3,FALSE)," - ",VLOOKUP(VALUE(B8),'Listing Players'!A:I,4,FALSE)," - ",VLOOKUP(VALUE(B8),'Listing Players'!A:I,5,FALSE)) -> AELST ELLA - Vl-B283 - B2 | D8: =VLOOKUP(VALUE(B8),'Listing Players'!A:I,8,FALSE) -> JUN1 | E8: 50 | F8: 0 | G8: 0 | H8: 0 | I8: 0 | J8: =SUM(LARGE(E8:G8,1), LARGE(E8:G8,2),H8:I8) -> 50
A9: 7 | B9: 525762 | C9: =CONCATENATE(VLOOKUP(VALUE(B9),'Listing Players'!A:I,2,FALSE)," ",VLOOKUP(VALUE(B9),'Listing Players'!A:I,3,FALSE)," - ",VLOOKUP(VALUE(B9),'Listing Players'!A:I,4,FALSE)," - ",VLOOKUP(VALUE(B9),'Listing Players'!A:I,5,FALSE)) -> GREGOOR GITTE - Vl-B234 - B2 | D9: =VLOOKUP(VALUE(B9),'Listing Players'!A:I,8,FALSE) -> JUN3 | E9: 45 | F9: 0 | G9: 0 | H9: 0 | I9: 0 | J9: =SUM(LARGE(E9:G9,1), LARGE(E9:G9,2),H9:I9) -> 45
A10: 8 | B10: 523661 | C10: =CONCATENATE(VLOOKUP(VALUE(B10),'Listing Players'!A:I,2,FALSE)," ",VLOOKUP(VALUE(B10),'Listing Players'!A:I,3,FALSE)," - ",VLOOKUP(VALUE(B10),'Listing Players'!A:I,4,FALSE)," - ",VLOOKUP(VALUE(B10),'Listing Players'!A:I,5,FALSE)) -> MERMANS INTHE - A147 - B2 | D10: =VLOOKUP(VALUE(B10),'Listing Players'!A:I,8,FALSE) -> JUN3 | E10: 40 | F10: 0 | G10: 0 | H10: 0 | I10: 0 | J10: =SUM(LARGE(E10:G10,1), LARGE(E10:G10,2),H10:I10) -> 40
A11: 9 | B11: 162047 | C11: =CONCATENATE(VLOOKUP(VALUE(B11),'Listing Players'!A:I,2,FALSE)," ",VLOOKUP(VALUE(B11),'Listing Players'!A:I,3,FALSE)," - ",VLOOKUP(VALUE(B11),'Listing Players'!A:I,4,FALSE)," - ",VLOOKUP(VALUE(B11),'Listing Players'!A:I,5,FALSE)) -> DEDECKER JULIETTE - Lx039 - B2 | D11: =VLOOKUP(VALUE(B11),'Listing Players'!A:I,8,FALSE) -> JUN1 | E11: 35 | F11: 0 | G11: 0 | H11: 0 | I11: 0 | J11: =SUM(LARGE(E11:G11,1), LARGE(E11:G11,2),H11:I11) -> 35
A12: 10 | B12: 155638 | C12: =CONCATENATE(VLOOKUP(VALUE(B12),'Listing Players'!A:I,2,FALSE)," ",VLOOKUP(VALUE(B12),'Listing Players'!A:I,3,FALSE)," - ",VLOOKUP(VALUE(B12),'Listing Players'!A:I,4,FALSE)," - ",VLOOKUP(VALUE(B12),'Listing Players'!A:I,5,FALSE)) -> WARRAND ALICIA - BBW165 - B2 | D12: =VLOOKUP(VALUE(B12),'Listing Players'!A:I,8,FALSE) -> JUN2 | E12: 30 | F12: 0 | G12: 0 | H12: 0 | I12: 0 | J12: =SUM(LARGE(E12:G12,1), LARGE(E12:G12,2),H12:I12) -> 30
A13: 11 | B13: 163903 | C13: =CONCATENATE(VLOOKUP(VALUE(B13),'Listing Players'!A:I,2,FALSE)," ",VLOOKUP(VALUE(B13),'Listing Players'!A:I,3,FALSE)," - ",VLOOKUP(VALUE(B13),'Listing Players'!A:I,4,FALSE)," - ",VLOOKUP(VALUE(B13),'Listing Players'!A:I,5,FALSE)) -> SANZAROWSKI ZHANAPRAIA - H254 - B4 | D13: =VLOOKUP(VALUE(B13),'Listing Players'!A:I,8,FALSE) -> JUN1 | E13: 25 | F13: 0 | G13: 0 | H13: 0 | I13: 0 | J13: =SUM(LARGE(E13:G13,1), LARGE(E13:G13,2),H13:I13) -> 25
A14: 12 | B14: 166963 | C14: =CONCATENATE(VLOOKUP(VALUE(B14),'Listing Players'!A:I,2,FALSE)," ",VLOOKUP(VALUE(B14),'Listing Players'!A:I,3,FALSE)," - ",VLOOKUP(VALUE(B14),'Listing Players'!A:I,4,FALSE)," - ",VLOOKUP(VALUE(B14),'Listing Players'!A:I,5,FALSE)) -> CZAPLICKI EMELINE - Lx076 - B6 | D14: =VLOOKUP(VALUE(B14),'Listing Players'!A:I,8,FALSE) -> JUN2 | E14: 20 | F14: 0 | G14: 0 | H14: 0 | I14: 0 | J14: =SUM(LARGE(E14:G14,1), LARGE(E14:G14,2),H14:I14) -> 20
... A16: 14 | B16: 149749 | C16: =CONCATENATE(VLOOKUP(VALUE(B16),'Listing Players'!A:I,2,FALSE)," ",VLOOKUP(VALUE(B16),'Listing Players'!A:I,3,FALSE)," - ",VLOOKUP(VALUE(B16),'Listing Players'!A:I,4,FALSE)," - ",VLOOKUP(VALUE(B16),'Listing Players'!A:I,5,FALSE)) -> DANTINNE EMMA - H430 - C0 | D16: =VLOOKUP(VALUE(B16),'Listing Players'!A:I,8,FALSE) -> JUN1 | E16: 16 | F16: 0 | G16: 0 | H16: 0 | I16: 0 | J16: =SUM(LARGE(E16:G16,1), LARGE(E16:G16,2),H16:I16) -> 16

Sheet YR Girls - Mixte MIN_CAD
A1: Youth Ranking Girls - Mixte Cadets & Minimes | E1: 2024-2025
A2: Place | B2: Id | C2: Player | D2: Category | E2: NJC / CNJ 1 | F2: NJC / CNJ 2 | G2: NJC / CNJ 3 | H2: CB / BK | I2: TOP 12 | J2: TOTAL
A3: 1 | B3: 525433 | C3: =CONCATENATE(VLOOKUP(VALUE(B3),'Listing Players'!A:I,2,FALSE)," ",VLOOKUP(VALUE(B3),'Listing Players'!A:I,3,FALSE)," - ",VLOOKUP(VALUE(B3),'Listing Players'!A:I,4,FALSE)," - ",VLOOKUP(VALUE(B3),'Listing Players'!A:I,5,FALSE)) -> TANG TEMPERANCE - Vl-B283 - B2 | D3: =VLOOKUP(VALUE(B3),'Listing Players'!A:I,8,FALSE) -> CAD1 | E3: 75 | F3: 0 | G3: 0 | H3: 0 | I3: 0 | J3: =SUM(LARGE(E3:G3,1), LARGE(E3:G3,2),H3:I3) -> 75
A4: 2 | B4: 169278 | C4: =CONCATENATE(VLOOKUP(VALUE(B4),'Listing Players'!A:I,2,FALSE)," ",VLOOKUP(VALUE(B4),'Listing Players'!A:I,3,FALSE)," - ",VLOOKUP(VALUE(B4),'Listing Players'!A:I,4,FALSE)," - ",VLOOKUP(VALUE(B4),'Listing Players'!A:I,5,FALSE)) -> RIFFLART AMANDINE - BBW179 - C0 | D4: =VLOOKUP(VALUE(B4),'Listing Players'!A:I,8,FALSE) -> MIN2 | E4: 70 | F4: 0 | G4: 0 | H4: 0 | I4: 0 | J4: =SUM(LARGE(E4:G4,1), LARGE(E4:G4,2),H4:I4) -> 70
A5: 3 | B5: 164548 | C5: =CONCATENATE(VLOOKUP(VALUE(B5),'Listing Players'!A:I,2,FALSE)," ",VLOOKUP(VALUE(B5),'Listing Players'!A:I,3,FALSE)," - ",VLOOKUP(VALUE(B5),'Listing Players'!A:I,4,FALSE)," - ",VLOOKUP(VALUE(B5),'Listing Players'!A:I,5,FALSE)) -> CORYN YASMINE - L323 - B4 | D5: =VLOOKUP(VALUE(B5),'Listing Players'!A:I,8,FALSE) -> CAD2 | E5: 65 | F5: 0 | G5: 0 | H5: 0 | I5: 0 | J5: =SUM(LARGE(E5:G5,1), LARGE(E5:G5,2),H5:I5) -> 65
A6: 4 | B6: 163422 | C6: =CONCATENATE(VLOOKUP(VALUE(B6),'Listing Players'!A:I,2,FALSE)," ",VLOOKUP(VALUE(B6),'Listing Players'!A:I,3,FALSE)," - ",VLOOKUP(VALUE(B6),'Listing Players'!A:I,4,FALSE)," - ",VLOOKUP(VALUE(B6),'Listing Players'!A:I,5,FALSE)) -> GEEROMS CHLOE - BBW165 - C2 | D6: =VLOOKUP(VALUE(B6),'Listing Players'!A:I,8,FALSE) -> CAD2 | E6: 60 | F6: 0 | G6: 0 | H6: 0 | I6: 0 | J6: =SUM(LARGE(E6:G6,1), LARGE(E6:G6,2),H6:I6) -> 60
A7: 5 | B7: 156009 | C7: =CONCATENATE(VLOOKUP(VALUE(B7),'Listing Players'!A:I,2,FALSE)," ",VLOOKUP(VALUE(B7),'Listing Players'!A:I,3,FALSE)," - ",VLOOKUP(VALUE(B7),'Listing Players'!A:I,4,FALSE)," - ",VLOOKUP(VALUE(B7),'Listing Players'!A:I,5,FALSE)) -> RIFFLART CHARLOTTE - BBW179 - C0 | D7: =VLOOKUP(VALUE(B7),'Listing Players'!A:I,8,FALSE) -> CAD1 | E7: 55 | F7: 0 | G7: 0 | H7: 0 | I7: 0 | J7: =SUM(LARGE(E7:G7,1), LARGE(E7:G7,2),H7:I7) -> 55
A8: 6 | B8: 524944 | C8: =CONCATENATE(VLOOKUP(VALUE(B8),'Listing Players'!A:I,2,FALSE)," ",VLOOKUP(VALUE(B8),'Listing Players'!A:I,3,FALSE)," - ",VLOOKUP(VALUE(B8),'Listing Players'!A:I,4,FALSE)," - ",VLOOKUP(VALUE(B8),'Listing Players'!A:I,5,FALSE)) -> VERMANDEL ELLA - WVL134 - B6 | D8: =VLOOKUP(VALUE(B8),'Listing Players'!A:I,8,FALSE) -> MIN2 | E8: 50 | F8: 0 | G8: 0 | H8: 0 | I8: 0 | J8: =SUM(LARGE(E8:G8,1), LARGE(E8:G8,2),H8:I8) -> 50
A9: 7 | B9: 526227 | C9: =CONCATENATE(VLOOKUP(VALUE(B9),'Listing Players'!A:I,2,FALSE)," ",VLOOKUP(VALUE(B9),'Listing Players'!A:I,3,FALSE)," - ",VLOOKUP(VALUE(B9),'Listing Players'!A:I,4,FALSE)," - ",VLOOKUP(VALUE(B9),'Listing Players'!A:I,5,FALSE)) -> GOETHALS LORE - WVL109 - B6 | D9: =VLOOKUP(VALUE(B9),'Listing Players'!A:I,8,FALSE) -> MIN2 | E9: 45 | F9: 0 | G9: 0 | H9: 0 | I9: 0 | J9: =SUM(LARGE(E9:G9,1), LARGE(E9:G9,2),H9:I9) -> 45
A10: 8 | B10: 524246 | C10: =CONCATENATE(VLOOKUP(VALUE(B10),'Listing Players'!A:I,2,FALSE)," ",VLOOKUP(VALUE(B10),'Listing Players'!A:I,3,FALSE)," - ",VLOOKUP(VALUE(B10),'Listing Players'!A:I,4,FALSE)," - ",VLOOKUP(VALUE(B10),'Listing Players'!A:I,5,FALSE)) -> VERLEYE CATO - WVL109 - B6 | D10: =VLOOKUP(VALUE(B10),'Listing Players'!A:I,8,FALSE) -> CAD2 | E10: 40 | F10: 0 | G10: 0 | H10: 0 | I10: 0 | J10: =SUM(LARGE(E10:G10,1), LARGE(E10:G10,2),H10:I10) -> 40
A11: 9 | B11: 526965 | C11: =CONCATENATE(VLOOKUP(VALUE(B11),'Listing Players'!A:I,2,FALSE)," ",VLOOKUP(VALUE(B11),'Listing Players'!A:I,3,FALSE)," - ",VLOOKUP(VALUE(B11),'Listing Players'!A:I,4,FALSE)," - ",VLOOKUP(VALUE(B11),'Listing Players'!A:I,5,FALSE)) -> CHAPODZE MARIE - OVL032 - C4 | D11: =VLOOKUP(VALUE(B11),'Listing Players'!A:I,8,FALSE) -> MIN2 | E11: 35 | F11: 0 | G11: 0 | H11: 0 | I11: 0 | J11: =SUM(LARGE(E11:G11,1), LARGE(E11:G11,2),H11:I11) -> 35
A12: 10 | B12: 155587 | C12: =CONCATENATE(VLOOKUP(VALUE(B12),'Listing Players'!A:I,2,FALSE)," ",VLOOKUP(VALUE(B12),'Listing Players'!A:I,3,FALSE)," - ",VLOOKUP(VALUE(B12),'Listing Players'!A:I,4,FALSE)," - ",VLOOKUP(VALUE(B12),'Listing Players'!A:I,5,FALSE)) -> DANTINNE LILOU - H430 - B6 | D12: =VLOOKUP(VALUE(B12),'Listing Players'!A:I,8,FALSE) -> CAD1 | E12: 30 | F12: 0 | G12: 0 | H12: 0 | I12: 0 | J12: =SUM(LARGE(E12:G12,1), LARGE(E12:G12,2),H12:I12) -> 30
A13: 11 | B13: 162751 | C13: =CONCATENATE(VLOOKUP(VALUE(B13),'Listing Players'!A:I,2,FALSE)," ",VLOOKUP(VALUE(B13),'Listing Players'!A:I,3,FALSE)," - ",VLOOKUP(VALUE(B13),'Listing Players'!A:I,4,FALSE)," - ",VLOOKUP(VALUE(B13),'Listing Players'!A:I,5,FALSE)) -> HOUSIAUX CAPUCINE - N104 - C2 | D13: =VLOOKUP(VALUE(B13),'Listing Players'!A:I,8,FALSE) -> MIN1 | E13: 25 | F13: 0 | G13: 0 | H13: 0 | I13: 0 | J13: =SUM(LARGE(E13:G13,1), LARGE(E13:G13,2),H13:I13) -> 25
A14: 12 | B14: 155132 | C14: =CONCATENATE(VLOOKUP(VALUE(B14),'Listing Players'!A:I,2,FALSE)," ",VLOOKUP(VALUE(B14),'Listing Players'!A:I,3,FALSE)," - ",VLOOKUP(VALUE(B14),'Listing Players'!A:I,4,FALSE)," - ",VLOOKUP(VALUE(B14),'Listing Players'!A:I,5,FALSE)) -> WACHEUL ROSIE - H399 - C0 | D14: =VLOOKUP(VALUE(B14),'Listing Players'!A:I,8,FALSE) -> CAD1 | E14: 20 | F14: 0 | G14: 0 | H14: 0 | I14: 0 | J14: =SUM(LARGE(E14:G14,1), LARGE(E14:G14,2),H14:I14) -> 20
... A33: 31 | B33: 172161 | C33: =CONCATENATE(VLOOKUP(VALUE(B33),'Listing Players'!A:I,2,FALSE)," ",VLOOKUP(VALUE(B33),'Listing Players'!A:I,3,FALSE)," - ",VLOOKUP(VALUE(B33),'Listing Players'!A:I,4,FALSE)," - ",VLOOKUP(VALUE(B33),'Listing Players'!A:I,5,FALSE)) -> PAUWELS EMMA - H254 - D4 | D33: =VLOOKUP(VALUE(B33),'Listing Players'!A:I,8,FALSE) -> MIN1 | E33: 1 | F33: 0 | G33: 0 | H33: 0 | I33: 0 | J33: =SUM(LARGE(E33:G33,1), LARGE(E33:G33,2),H33:I33) -> 1
A34: 32 | C34: =CONCATENATE(VLOOKUP(VALUE(B34),'Listing Players'!A:I,2,FALSE)," ",VLOOKUP(VALUE(B34),'Listing Players'!A:I,3,FALSE)," - ",VLOOKUP(VALUE(B34),'Listing Players'!A:I,4,FALSE)," - ",VLOOKUP(VALUE(B34),'Listing Players'!A:I,5,FALSE)) -> #N/A | D34: =VLOOKUP(VALUE(B34),'Listing Players'!A:I,8,FALSE) -> #N/A | F34: 0 | G34: 0 | H34: 0 | I34: 0 | J34: =SUM(LARGE(E34:G34,1), LARGE(E34:G34,2),H34:I34) -> 0
A35: 33 | C35: =CONCATENATE(VLOOKUP(VALUE(B35),'Listing Players'!A:I,2,FALSE)," ",VLOOKUP(VALUE(B35),'Listing Players'!A:I,3,FALSE)," - ",VLOOKUP(VALUE(B35),'Listing Players'!A:I,4,FALSE)," - ",VLOOKUP(VALUE(B35),'Listing Players'!A:I,5,FALSE)) -> #N/A | D35: =VLOOKUP(VALUE(B35),'Listing Players'!A:I,8,FALSE) -> #N/A | F35: 0 | G35: 0 | H35: 0 | I35: 0 | J35: =SUM(LARGE(E35:G35,1), LARGE(E35:G35,2),H35:I35) -> 0
A36: 34 | C36: =CONCATENATE(VLOOKUP(VALUE(B36),'Listing Players'!A:I,2,FALSE)," ",VLOOKUP(VALUE(B36),'Listing Players'!A:I,3,FALSE)," - ",VLOOKUP(VALUE(B36),'Listing Players'!A:I,4,FALSE)," - ",VLOOKUP(VALUE(B36),'Listing Players'!A:I,5,FALSE)) -> #N/A | D36: =VLOOKUP(VALUE(B36),'Listing Players'!A:I,8,FALSE) -> #N/A | F36: 0 | G36: 0 | H36: 0 | I36: 0 | J36: =SUM(LARGE(E36:G36,1), LARGE(E36:G36,2),H36:I36) -> 0

Sheet YR Girls - CAD
A1: Youth Ranking Girls - Cadets | E1: 2024-2025
A2: Place | B2: Id | C2: Player | D2: Category | E2: NJC / CNJ 1 | F2: NJC / CNJ 2 | G2: NJC / CNJ 3 | H2: CB / BK | I2: TOP 12 | J2: TOTAL
A3: 1 | B3: 525433 | C3: =CONCATENATE(VLOOKUP(VALUE(B3),'Listing Players'!A:I,2,FALSE)," ",VLOOKUP(VALUE(B3),'Listing Players'!A:I,3,FALSE)," - ",VLOOKUP(VALUE(B3),'Listing Players'!A:I,4,FALSE)," - ",VLOOKUP(VALUE(B3),'Listing Players'!A:I,5,FALSE)) -> TANG TEMPERANCE - Vl-B283 - B2 | D3: =VLOOKUP(VALUE(B3),'Listing Players'!A:I,8,FALSE) -> CAD1 | E3: 75 | F3: 0 | G3: 0 | H3: 0 | I3: 0 | J3: =SUM(LARGE(E3:G3,1), LARGE(E3:G3,2),H3:I3) -> 75
A4: 2 | B4: 164548 | C4: =CONCATENATE(VLOOKUP(VALUE(B4),'Listing Players'!A:I,2,FALSE)," ",VLOOKUP(VALUE(B4),'Listing Players'!A:I,3,FALSE)," - ",VLOOKUP(VALUE(B4),'Listing Players'!A:I,4,FALSE)," - ",VLOOKUP(VALUE(B4),'Listing Players'!A:I,5,FALSE)) -> CORYN YASMINE - L323 - B4 | D4: =VLOOKUP(VALUE(B4),'Listing Players'!A:I,8,FALSE) -> CAD2 | E4: 70 | F4: 0 | G4: 0 | H4: 0 | I4: 0 | J4: =SUM(LARGE(E4:G4,1), LARGE(E4:G4,2),H4:I4) -> 70
A5: 3 | B5: 163422 | C5: =CONCATENATE(VLOOKUP(VALUE(B5),'Listing Players'!A:I,2,FALSE)," ",VLOOKUP(VALUE(B5),'Listing Players'!A:I,3,FALSE)," - ",VLOOKUP(VALUE(B5),'Listing Players'!A:I,4,FALSE)," - ",VLOOKUP(VALUE(B5),'Listing Players'!A:I,5,FALSE)) -> GEEROMS CHLOE - BBW165 - C2 | D5: =VLOOKUP(VALUE(B5),'Listing Players'!A:I,8,FALSE) -> CAD2 | E5: 65 | F5: 0 | G5: 0 | H5: 0 | I5: 0 | J5: =SUM(LARGE(E5:G5,1), LARGE(E5:G5,2),H5:I5) -> 65
A6: 4 | B6: 156009 | C6: =CONCATENATE(VLOOKUP(VALUE(B6),'Listing Players'!A:I,2,FALSE)," ",VLOOKUP(VALUE(B6),'Listing Players'!A:I,3,FALSE)," - ",VLOOKUP(VALUE(B6),'Listing Players'!A:I,4,FALSE)," - ",VLOOKUP(VALUE(B6),'Listing Players'!A:I,5,FALSE)) -> RIFFLART CHARLOTTE - BBW179 - C0 | D6: =VLOOKUP(VALUE(B6),'Listing Players'!A:I,8,FALSE) -> CAD1 | E6: 60 | F6: 0 | G6: 0 | H6: 0 | I6: 0 | J6: =SUM(LARGE(E6:G6,1), LARGE(E6:G6,2),H6:I6) -> 60
A7: 5 | B7: 524246 | C7: =CONCATENATE(VLOOKUP(VALUE(B7),'Listing Players'!A:I,2,FALSE)," ",VLOOKUP(VALUE(B7),'Listing Players'!A:I,3,FALSE)," - ",VLOOKUP(VALUE(B7),'Listing Players'!A:I,4,FALSE)," - ",VLOOKUP(VALUE(B7),'Listing Players'!A:I,5,FALSE)) -> VERLEYE CATO - WVL109 - B6 | D7: =VLOOKUP(VALUE(B7),'Listing Players'!A:I,8,FALSE) -> CAD2 | E7: 55 | F7: 0 | G7: 0 | H7: 0 | I7: 0 | J7: =SUM(LARGE(E7:G7,1), LARGE(E7:G7,2),H7:I7) -> 55
A8: 6 | B8: 155587 | C8: =CONCATENATE(VLOOKUP(VALUE(B8),'Listing Players'!A:I,2,FALSE)," ",VLOOKUP(VALUE(B8),'Listing Players'!A:I,3,FALSE)," - ",VLOOKUP(VALUE(B8),'Listing Players'!A:I,4,FALSE)," - ",VLOOKUP(VALUE(B8),'Listing Players'!A:I,5,FALSE)) -> DANTINNE LILOU - H430 - B6 | D8: =VLOOKUP(VALUE(B8),'Listing Players'!A:I,8,FALSE) -> CAD1 | E8: 50 | F8: 0 | G8: 0 | H8: 0 | I8: 0 | J8: =SUM(LARGE(E8:G8,1), LARGE(E8:G8,2),H8:I8) -> 50
A9: 7 | B9: 155132 | C9: =CONCATENATE(VLOOKUP(VALUE(B9),'Listing Players'!A:I,2,FALSE)," ",VLOOKUP(VALUE(B9),'Listing Players'!A:I,3,FALSE)," - ",VLOOKUP(VALUE(B9),'Listing Players'!A:I,4,FALSE)," - ",VLOOKUP(VALUE(B9),'Listing Players'!A:I,5,FALSE)) -> WACHEUL ROSIE - H399 - C0 | D9: =VLOOKUP(VALUE(B9),'Listing Players'!A:I,8,FALSE) -> CAD1 | E9: 45 | F9: 0 | G9: 0 | H9: 0 | I9: 0 | J9: =SUM(LARGE(E9:G9,1), LARGE(E9:G9,2),H9:I9) -> 45
A10: 8 | B10: 168680 | C10: =CONCATENATE(VLOOKUP(VALUE(B10),'Listing Players'!A:I,2,FALSE)," ",VLOOKUP(VALUE(B10),'Listing Players'!A:I,3,FALSE)," - ",VLOOKUP(VALUE(B10),'Listing Players'!A:I,4,FALSE)," - ",VLOOKUP(VALUE(B10),'Listing Players'!A:I,5,FALSE)) -> ART LISE - BBW350 - C6 | D10: =VLOOKUP(VALUE(B10),'Listing Players'!A:I,8,FALSE) -> CAD1 | E10: 40 | F10: 0 | G10: 0 | H10: 0 | I10: 0 | J10: =SUM(LARGE(E10:G10,1), LARGE(E10:G10,2),H10:I10) -> 40
A11: 9 | B11: 171418 | C11: =CONCATENATE(VLOOKUP(VALUE(B11),'Listing Players'!A:I,2,FALSE)," ",VLOOKUP(VALUE(B11),'Listing Players'!A:I,3,FALSE)," - ",VLOOKUP(VALUE(B11),'Listing Players'!A:I,4,FALSE)," - ",VLOOKUP(VALUE(B11),'Listing Players'!A:I,5,FALSE)) -> CZAPLICKI ANAIS - Lx076 - C4 | D11: =VLOOKUP(VALUE(B11),'Listing Players'!A:I,8,FALSE) -> CAD2 | E11: 35 | F11: 0 | G11: 0 | H11: 0 | I11: 0 | J11: =SUM(LARGE(E11:G11,1), LARGE(E11:G11,2),H11:I11) -> 35

Sheet YR Girls - MIN
A1: Youth Ranking Girls - Minimes | E1: 2024-2025
A2: Place | B2: Id | C2: Player | D2: Category | E2: NJC / CNJ 1 | F2: NJC / CNJ 2 | G2: NJC / CNJ 3 | H2: CB / BK | I2: TOP 12 | J2: TOTAL
A3: 1 | B3: 169278 | C3: =CONCATENATE(VLOOKUP(VALUE(B3),'Listing Players'!A:I,2,FALSE)," ",VLOOKUP(VALUE(B3),'Listing Players'!A:I,3,FALSE)," - ",VLOOKUP(VALUE(B3),'Listing Players'!A:I,4,FALSE)," - ",VLOOKUP(VALUE(B3),'Listing Players'!A:I,5,FALSE)) -> RIFFLART AMANDINE - BBW179 - C0 | D3: =VLOOKUP(VALUE(B3),'Listing Players'!A:I,8,FALSE) -> MIN2 | E3: 75 | F3: 0 | G3: 0 | H3: 0 | I3: 0 | J3: =SUM(LARGE(E3:G3,1), LARGE(E3:G3,2),H3:I3) -> 75
A4: 2 | B4: 524944 | C4: =CONCATENATE(VLOOKUP(VALUE(B4),'Listing Players'!A:I,2,FALSE)," ",VLOOKUP(VALUE(B4),'Listing Players'!A:I,3,FALSE)," - ",VLOOKUP(VALUE(B4),'Listing Players'!A:I,4,FALSE)," - ",VLOOKUP(VALUE(B4),'Listing Players'!A:I,5,FALSE)) -> VERMANDEL ELLA - WVL134 - B6 | D4: =VLOOKUP(VALUE(B4),'Listing Players'!A:I,8,FALSE) -> MIN2 | E4: 70 | F4: 0 | G4: 0 | H4: 0 | I4: 0 | J4: =SUM(LARGE(E4:G4,1), LARGE(E4:G4,2),H4:I4) -> 70
A5: 3 | B5: 526227 | C5: =CONCATENATE(VLOOKUP(VALUE(B5),'Listing Players'!A:I,2,FALSE)," ",VLOOKUP(VALUE(B5),'Listing Players'!A:I,3,FALSE)," - ",VLOOKUP(VALUE(B5),'Listing Players'!A:I,4,FALSE)," - ",VLOOKUP(VALUE(B5),'Listing Players'!A:I,5,FALSE)) -> GOETHALS LORE - WVL109 - B6 | D5: =VLOOKUP(VALUE(B5),'Listing Players'!A:I,8,FALSE) -> MIN2 | E5: 65 | F5: 0 | G5: 0 | H5: 0 | I5: 0 | J5: =SUM(LARGE(E5:G5,1), LARGE(E5:G5,2),H5:I5) -> 65
A6: 4 | B6: 526965 | C6: =CONCATENATE(VLOOKUP(VALUE(B6),'Listing Players'!A:I,2,FALSE)," ",VLOOKUP(VALUE(B6),'Listing Players'!A:I,3,FALSE)," - ",VLOOKUP(VALUE(B6),'Listing Players'!A:I,4,FALSE)," - ",VLOOKUP(VALUE(B6),'Listing Players'!A:I,5,FALSE)) -> CHAPODZE MARIE - OVL032 - C4 | D6: =VLOOKUP(VALUE(B6),'Listing Players'!A:I,8,FALSE) -> MIN2 | E6: 60 | F6: 0 | G6: 0 | H6: 0 | I6: 0 | J6: =SUM(LARGE(E6:G6,1), LARGE(E6:G6,2),H6:I6) -> 60
A7: 5 | B7: 162751 | C7: =CONCATENATE(VLOOKUP(VALUE(B7),'Listing Players'!A:I,2,FALSE)," ",VLOOKUP(VALUE(B7),'Listing Players'!A:I,3,FALSE)," - ",VLOOKUP(VALUE(B7),'Listing Players'!A:I,4,FALSE)," - ",VLOOKUP(VALUE(B7),'Listing Players'!A:I,5,FALSE)) -> HOUSIAUX CAPUCINE - N104 - C2 | D7: =VLOOKUP(VALUE(B7),'Listing Players'!A:I,8,FALSE) -> MIN1 | E7: 55 | F7: 0 | G7: 0 | H7: 0 | I7: 0 | J7: =SUM(LARGE(E7:G7,1), LARGE(E7:G7,2),H7:I7) -> 55
A8: 6 | B8: 167891 | C8: =CONCATENATE(VLOOKUP(VALUE(B8),'Listing Players'!A:I,2,FALSE)," ",VLOOKUP(VALUE(B8),'Listing Players'!A:I,3,FALSE)," - ",VLOOKUP(VALUE(B8),'Listing Players'!A:I,4,FALSE)," - ",VLOOKUP(VALUE(B8),'Listing Players'!A:I,5,FALSE)) -> VANSNICK VALENTINE - H200 - D0 | D8: =VLOOKUP(VALUE(B8),'Listing Players'!A:I,8,FALSE) -> MIN1 | E8: 50 | F8: 0 | G8: 0 | H8: 0 | I8: 0 | J8: =SUM(LARGE(E8:G8,1), LARGE(E8:G8,2),H8:I8) -> 50
A9: 7 | B9: 170748 | C9: =CONCATENATE(VLOOKUP(VALUE(B9),'Listing Players'!A:I,2,FALSE)," ",VLOOKUP(VALUE(B9),'Listing Players'!A:I,3,FALSE)," - ",VLOOKUP(VALUE(B9),'Listing Players'!A:I,4,FALSE)," - ",VLOOKUP(VALUE(B9),'Listing Players'!A:I,5,FALSE)) -> MACARENCO SERAFIMA - BBW134 - C6 | D9: =VLOOKUP(VALUE(B9),'Listing Players'!A:I,8,FALSE) -> MIN1 | E9: 45 | F9: 0 | G9: 0 | H9: 0 | I9: 0 | J9: =SUM(LARGE(E9:G9,1), LARGE(E9:G9,2),H9:I9) -> 45
A10: 8 | B10: 166460 | C10: =CONCATENATE(VLOOKUP(VALUE(B10),'Listing Players'!A:I,2,FALSE)," ",VLOOKUP(VALUE(B10),'Listing Players'!A:I,3,FALSE)," - ",VLOOKUP(VALUE(B10),'Listing Players'!A:I,4,FALSE)," - ",VLOOKUP(VALUE(B10),'Listing Players'!A:I,5,FALSE)) -> GUISSARD LILA - L119 - C4 | D10: =VLOOKUP(VALUE(B10),'Listing Players'!A:I,8,FALSE) -> MIN2 | E10: 40 | F10: 0 | G10: 0 | H10: 0 | I10: 0 | J10: =SUM(LARGE(E10:G10,1), LARGE(E10:G10,2),H10:I10) -> 40
A11: 9 | B11: 159703 | C11: =CONCATENATE(VLOOKUP(VALUE(B11),'Listing Players'!A:I,2,FALSE)," ",VLOOKUP(VALUE(B11),'Listing Players'!A:I,3,FALSE)," - ",VLOOKUP(VALUE(B11),'Listing Players'!A:I,4,FALSE)," - ",VLOOKUP(VALUE(B11),'Listing Players'!A:I,5,FALSE)) -> DECLOUX CHLOE - N104 - C2 | D11: =VLOOKUP(VALUE(B11),'Listing Players'!A:I,8,FALSE) -> MIN2 | E11: 35 | F11: 0 | G11: 0 | H11: 0 | I11: 0 | J11: =SUM(LARGE(E11:G11,1), LARGE(E11:G11,2),H11:I11) -> 35
A12: 10 | B12: 530517 | C12: =CONCATENATE(VLOOKUP(VALUE(B12),'Listing Players'!A:I,2,FALSE)," ",VLOOKUP(VALUE(B12),'Listing Players'!A:I,3,FALSE)," - ",VLOOKUP(VALUE(B12),'Listing Players'!A:I,4,FALSE)," - ",VLOOKUP(VALUE(B12),'Listing Players'!A:I,5,FALSE)) -> DE LEY LAURE - A136 - C6 | D12: =VLOOKUP(VALUE(B12),'Listing Players'!A:I,8,FALSE) -> MIN2 | E12: 30 | F12: 0 | G12: 0 | H12: 0 | I12: 0 | J12: =SUM(LARGE(E12:G12,1), LARGE(E12:G12,2),H12:I12) -> 30
A13: 11 | B13: 526760 | C13: =CONCATENATE(VLOOKUP(VALUE(B13),'Listing Players'!A:I,2,FALSE)," ",VLOOKUP(VALUE(B13),'Listing Players'!A:I,3,FALSE)," - ",VLOOKUP(VALUE(B13),'Listing Players'!A:I,4,FALSE)," - ",VLOOKUP(VALUE(B13),'Listing Players'!A:I,5,FALSE)) -> MOSSELMANS LINDE - OVL106 - D2 | D13: =VLOOKUP(VALUE(B13),'Listing Players'!A:I,8,FALSE) -> MIN2 | E13: 25 | F13: 0 | G13: 0 | H13: 0 | I13: 0 | J13: =SUM(LARGE(E13:G13,1), LARGE(E13:G13,2),H13:I13) -> 25
A14: 12 | B14: 525178 | C14: =CONCATENATE(VLOOKUP(VALUE(B14),'Listing Players'!A:I,2,FALSE)," ",VLOOKUP(VALUE(B14),'Listing Players'!A:I,3,FALSE)," - ",VLOOKUP(VALUE(B14),'Listing Players'!A:I,4,FALSE)," - ",VLOOKUP(VALUE(B14),'Listing Players'!A:I,5,FALSE)) -> BEERTS SANNE - Vl-B234 - D4 | D14: =VLOOKUP(VALUE(B14),'Listing Players'!A:I,8,FALSE) -> MIN1 | E14: 20 | F14: 0 | G14: 0 | H14: 0 | I14: 0 | J14: =SUM(LARGE(E14:G14,1), LARGE(E14:G14,2),H14:I14) -> 20
... A24: 22 | B24: 172161 | C24: =CONCATENATE(VLOOKUP(VALUE(B24),'Listing Players'!A:I,2,FALSE)," ",VLOOKUP(VALUE(B24),'Listing Players'!A:I,3,FALSE)," - ",VLOOKUP(VALUE(B24),'Listing Players'!A:I,4,FALSE)," - ",VLOOKUP(VALUE(B24),'Listing Players'!A:I,5,FALSE)) -> PAUWELS EMMA - H254 - D4 | D24: =VLOOKUP(VALUE(B24),'Listing Players'!A:I,8,FALSE) -> MIN1 | E24: 1 | F24: 0 | G24: 0 | H24: 0 | I24: 0 | J24: =SUM(LARGE(E24:G24,1), LARGE(E24:G24,2),H24:I24) -> 1

Sheet YR Girls - PMIN
A1: Youth Ranking Girls - Preminimes | E1: 2024-2025
A2: Place | B2: Id | C2: Player | D2: Category | E2: NJC / CNJ 1 | F2: NJC / CNJ 2 | G2: NJC / CNJ 3 | H2: CB / BK | I2: TOP 12 | J2: TOTAL
A3: 1 | B3: 171936 | C3: =CONCATENATE(VLOOKUP(VALUE(B3),'Listing Players'!A:I,2,FALSE)," ",VLOOKUP(VALUE(B3),'Listing Players'!A:I,3,FALSE)," - ",VLOOKUP(VALUE(B3),'Listing Players'!A:I,4,FALSE)," - ",VLOOKUP(VALUE(B3),'Listing Players'!A:I,5,FALSE)) -> SVREN AMINA - L264 - D4 | D3: =VLOOKUP(VALUE(B3),'Listing Players'!A:I,8,FALSE) -> PMIN2 | E3: 75 | F3: 0 | G3: 0 | H3: 0 | I3: 0 | J3: =SUM(LARGE(E3:G3,1), LARGE(E3:G3,2),H3:I3) -> 75
A4: 2 | B4: 161080 | C4: =CONCATENATE(VLOOKUP(B4,'Listing Players'!A:I,2,FALSE)," ",VLOOKUP(B4,'Listing Players'!A:I,3,FALSE)," - ",VLOOKUP(B4,'Listing Players'!A:I,4,FALSE)," - ",VLOOKUP(B4,'Listing Players'!A:I,5,FALSE)) -> LEGROS EVA - H203 - D0 | D4: =VLOOKUP(VALUE(B4),'Listing Players'!A:I,8,FALSE) -> PMIN2 | E4: 70 | F4: 0 | G4: 0 | H4: 0 | I4: 0 | J4: =SUM(LARGE(E4:G4,1), LARGE(E4:G4,2),H4:I4) -> 70
A5: 3 | B5: 169279 | C5: =CONCATENATE(VLOOKUP(B5,'Listing Players'!A:I,2,FALSE)," ",VLOOKUP(B5,'Listing Players'!A:I,3,FALSE)," - ",VLOOKUP(B5,'Listing Players'!A:I,4,FALSE)," - ",VLOOKUP(B5,'Listing Players'!A:I,5,FALSE)) -> RIFFLART TESSA - BBW179 - D2 | D5: =VLOOKUP(VALUE(B5),'Listing Players'!A:I,8,FALSE) -> PMIN2 | E5: 65 | F5: 0 | G5: 0 | H5: 0 | I5: 0 | J5: =SUM(LARGE(E5:G5,1), LARGE(E5:G5,2),H5:I5) -> 65
A6: 4 | B6: 532944 | C6: =CONCATENATE(VLOOKUP(B6,'Listing Players'!A:I,2,FALSE)," ",VLOOKUP(B6,'Listing Players'!A:I,3,FALSE)," - ",VLOOKUP(B6,'Listing Players'!A:I,4,FALSE)," - ",VLOOKUP(B6,'Listing Players'!A:I,5,FALSE)) -> LAMBRECHTS AMELIE - Vl-B283 - D6 | D6: =VLOOKUP(VALUE(B6),'Listing Players'!A:I,8,FALSE) -> PMIN1 | E6: 60 | F6: 0 | G6: 0 | H6: 0 | I6: 0 | J6: =SUM(LARGE(E6:G6,1), LARGE(E6:G6,2),H6:I6) -> 60
A7: 5 | B7: 174083 | C7: =CONCATENATE(VLOOKUP(B7,'Listing Players'!A:I,2,FALSE)," ",VLOOKUP(B7,'Listing Players'!A:I,3,FALSE)," - ",VLOOKUP(B7,'Listing Players'!A:I,4,FALSE)," - ",VLOOKUP(B7,'Listing Players'!A:I,5,FALSE)) -> NOURISSIER LUCY - BBW015 - D6 | D7: =VLOOKUP(VALUE(B7),'Listing Players'!A:I,8,FALSE) -> PMIN2 | E7: 55 | F7: 0 | G7: 0 | H7: 0 | I7: 0 | J7: =SUM(LARGE(E7:G7,1), LARGE(E7:G7,2),H7:I7) -> 55
A8: 6 | B8: 170129 | C8: =CONCATENATE(VLOOKUP(B8,'Listing Players'!A:I,2,FALSE)," ",VLOOKUP(B8,'Listing Players'!A:I,3,FALSE)," - ",VLOOKUP(B8,'Listing Players'!A:I,4,FALSE)," - ",VLOOKUP(B8,'Listing Players'!A:I,5,FALSE)) -> CAVRENNE LALIE - N028 - D6 | D8: =VLOOKUP(VALUE(B8),'Listing Players'!A:I,8,FALSE) -> PMIN1 | E8: 50 | F8: 0 | G8: 0 | H8: 0 | I8: 0 | J8: =SUM(LARGE(E8:G8,1), LARGE(E8:G8,2),H8:I8) -> 50
A9: 7 | B9: 169337 | C9: =CONCATENATE(VLOOKUP(B9,'Listing Players'!A:I,2,FALSE)," ",VLOOKUP(B9,'Listing Players'!A:I,3,FALSE)," - ",VLOOKUP(B9,'Listing Players'!A:I,4,FALSE)," - ",VLOOKUP(B9,'Listing Players'!A:I,5,FALSE)) -> LEGRAND ESTELLE - L264 - D6 | D9: =VLOOKUP(VALUE(B9),'Listing Players'!A:I,8,FALSE) -> PMIN2 | E9: 45 | F9: 0 | G9: 0 | H9: 0 | I9: 0 | J9: =SUM(LARGE(E9:G9,1), LARGE(E9:G9,2),H9:I9) -> 45
A10: 8 | B10: 533716 | C10: =CONCATENATE(VLOOKUP(B10,'Listing Players'!A:I,2,FALSE)," ",VLOOKUP(B10,'Listing Players'!A:I,3,FALSE)," - ",VLOOKUP(B10,'Listing Players'!A:I,4,FALSE)," - ",VLOOKUP(B10,'Listing Players'!A:I,5,FALSE)) -> BARTH VALENTINA - Vl-B234 - NC | D10: =VLOOKUP(VALUE(B10),'Listing Players'!A:I,8,FALSE) -> PMIN1 | E10: 40 | F10: 0 | G10: 0 | H10: 0 | I10: 0 | J10: =SUM(LARGE(E10:G10,1), LARGE(E10:G10,2),H10:I10) -> 40
A11: 9 | B11: 171742 | C11: =CONCATENATE(VLOOKUP(B11,'Listing Players'!A:I,2,FALSE)," ",VLOOKUP(B11,'Listing Players'!A:I,3,FALSE)," - ",VLOOKUP(B11,'Listing Players'!A:I,4,FALSE)," - ",VLOOKUP(B11,'Listing Players'!A:I,5,FALSE)) -> TOFFOLI EMMA - H004 - NC | D11: =VLOOKUP(VALUE(B11),'Listing Players'!A:I,8,FALSE) -> PMIN1 | E11: 35 | F11: 0 | G11: 0 | H11: 0 | I11: 0 | J11: =SUM(LARGE(E11:G11,1), LARGE(E11:G11,2),H11:I11) -> 35
A12: 10 | B12: 176286 | C12: =CONCATENATE(VLOOKUP(B12,'Listing Players'!A:I,2,FALSE)," ",VLOOKUP(B12,'Listing Players'!A:I,3,FALSE)," - ",VLOOKUP(B12,'Listing Players'!A:I,4,FALSE)," - ",VLOOKUP(B12,'Listing Players'!A:I,5,FALSE)) -> DUMONT ALICIA - N076 - NC | D12: =VLOOKUP(VALUE(B12),'Listing Players'!A:I,8,FALSE) -> PMIN1 | E12: 30 | F12: 0 | G12: 0 | H12: 0 | I12: 0 | J12: =SUM(LARGE(E12:G12,1), LARGE(E12:G12,2),H12:I12) -> 30
A13: 11 | B13: 170600 | C13: =CONCATENATE(VLOOKUP(B13,'Listing Players'!A:I,2,FALSE)," ",VLOOKUP(B13,'Listing Players'!A:I,3,FALSE)," - ",VLOOKUP(B13,'Listing Players'!A:I,4,FALSE)," - ",VLOOKUP(B13,'Listing Players'!A:I,5,FALSE)) -> SCHIPPEFILT LEANA - BBW319 - D6 | D13: =VLOOKUP(VALUE(B13),'Listing Players'!A:I,8,FALSE) -> PMIN1 | E13: 25 | F13: 0 | G13: 0 | H13: 0 | I13: 0 | J13: =SUM(LARGE(E13:G13,1), LARGE(E13:G13,2),H13:I13) -> 25

Sheet YR Boys - JUN
A1: Youth Ranking Boys - Juniors | E1: 2024-2025
A2: Place | B2: Id | C2: Player | D2: Category | E2: NJC / CNJ 1 | F2: NJC / CNJ 2 | G2: NJC / CNJ 3 | H2: CB / BK | I2: TOP 12 | J2: TOTAL
A3: 1 | B3: 156772 | C3: =CONCATENATE(VLOOKUP(VALUE(B3),'Listing Players'!A:I,2,FALSE)," ",VLOOKUP(VALUE(B3),'Listing Players'!A:I,3,FALSE)," - ",VLOOKUP(VALUE(B3),'Listing Players'!A:I,4,FALSE)," - ",VLOOKUP(VALUE(B3),'Listing Players'!A:I,5,FALSE)) -> DEGIVE MAXIME - N051 - B0 | D3: =VLOOKUP(VALUE(B3),'Listing Players'!A:I,8,FALSE) -> JUN2 | E3: 75 | F3: 0 | G3: 0 | H3: 0 | I3: 0 | J3: =SUM(LARGE(E3:G3,1), LARGE(E3:G3,2),H3:I3) -> 75
A4: 2 | B4: 523479 | C4: =CONCATENATE(VLOOKUP(VALUE(B4),'Listing Players'!A:I,2,FALSE)," ",VLOOKUP(VALUE(B4),'Listing Players'!A:I,3,FALSE)," - ",VLOOKUP(VALUE(B4),'Listing Players'!A:I,4,FALSE)," - ",VLOOKUP(VALUE(B4),'Listing Players'!A:I,5,FALSE)) -> ELING JAMIE - LK052 - B0 | D4: =VLOOKUP(VALUE(B4),'Listing Players'!A:I,8,FALSE) -> JUN2 | E4: 70 | F4: 0 | G4: 0 | H4: 0 | I4: 0 | J4: =SUM(LARGE(E4:G4,1), LARGE(E4:G4,2),H4:I4) -> 70
A5: 3 | B5: 529510 | C5: =CONCATENATE(VLOOKUP(VALUE(B5),'Listing Players'!A:I,2,FALSE)," ",VLOOKUP(VALUE(B5),'Listing Players'!A:I,3,FALSE)," - ",VLOOKUP(VALUE(B5),'Listing Players'!A:I,4,FALSE)," - ",VLOOKUP(VALUE(B5),'Listing Players'!A:I,5,FALSE)) -> CLOSSET MATT - Vl-B293 - B2 | D5: =VLOOKUP(VALUE(B5),'Listing Players'!A:I,8,FALSE) -> JUN1 | E5: 65 | F5: 0 | G5: 0 | H5: 0 | I5: 0 | J5: =SUM(LARGE(E5:G5,1), LARGE(E5:G5,2),H5:I5) -> 65
A6: 4 | B6: 149333 | C6: =CONCATENATE(VLOOKUP(VALUE(B6),'Listing Players'!A:I,2,FALSE)," ",VLOOKUP(VALUE(B6),'Listing Players'!A:I,3,FALSE)," - ",VLOOKUP(VALUE(B6),'Listing Players'!A:I,4,FALSE)," - ",VLOOKUP(VALUE(B6),'Listing Players'!A:I,5,FALSE)) -> JANSSENS CHARLES - H001 - B0 | D6: =VLOOKUP(VALUE(B6),'Listing Players'!A:I,8,FALSE) -> JUN3 | E6: 60 | F6: 0 | G6: 0 | H6: 0 | I6: 0 | J6: =SUM(LARGE(E6:G6,1), LARGE(E6:G6,2),H6:I6) -> 60
A7: 5 | B7: 154593 | C7: =CONCATENATE(VLOOKUP(VALUE(B7),'Listing Players'!A:I,2,FALSE)," ",VLOOKUP(VALUE(B7),'Listing Players'!A:I,3,FALSE)," - ",VLOOKUP(VALUE(B7),'Listing Players'!A:I,4,FALSE)," - ",VLOOKUP(VALUE(B7),'Listing Players'!A:I,5,FALSE)) -> GENART NOAH - N027 - B2 | D7: =VLOOKUP(VALUE(B7),'Listing Players'!A:I,8,FALSE) -> JUN2 | E7: 55 | F7: 0 | G7: 0 | H7: 0 | I7: 0 | J7: =SUM(LARGE(E7:G7,1), LARGE(E7:G7,2),H7:I7) -> 55
A8: 6 | B8: 158880 | C8: =CONCATENATE(VLOOKUP(VALUE(B8),'Listing Players'!A:I,2,FALSE)," ",VLOOKUP(VALUE(B8),'Listing Players'!A:I,3,FALSE)," - ",VLOOKUP(VALUE(B8),'Listing Players'!A:I,4,FALSE)," - ",VLOOKUP(VALUE(B8),'Listing Players'!A:I,5,FALSE)) -> JASINSKI MANOE - H001 - B0 | D8: =VLOOKUP(VALUE(B8),'Listing Players'!A:I,8,FALSE) -> JUN2 | E8: 50 | F8: 0 | G8: 0 | H8: 0 | I8: 0 | J8: =SUM(LARGE(E8:G8,1), LARGE(E8:G8,2),H8:I8) -> 50
A9: 7 | B9: 525598 | C9: =CONCATENATE(VLOOKUP(VALUE(B9),'Listing Players'!A:I,2,FALSE)," ",VLOOKUP(VALUE(B9),'Listing Players'!A:I,3,FALSE)," - ",VLOOKUP(VALUE(B9),'Listing Players'!A:I,4,FALSE)," - ",VLOOKUP(VALUE(B9),'Listing Players'!A:I,5,FALSE)) -> COENEN JAKOB - Vl-B283 - B4 | D9: =VLOOKUP(VALUE(B9),'Listing Players'!A:I,8,FALSE) -> JUN1 | E9: 45 | F9: 0 | G9: 0 | H9: 0 | I9: 0 | J9: =SUM(LARGE(E9:G9,1), LARGE(E9:G9,2),H9:I9) -> 45
A10: 8 | B10: 146611 | C10: =CONCATENATE(VLOOKUP(VALUE(B10),'Listing Players'!A:I,2,FALSE)," ",VLOOKUP(VALUE(B10),'Listing Players'!A:I,3,FALSE)," - ",VLOOKUP(VALUE(B10),'Listing Players'!A:I,4,FALSE)," - ",VLOOKUP(VALUE(B10),'Listing Players'!A:I,5,FALSE)) -> BAEKELANDT NOA - N104 - B2 | D10: =VLOOKUP(VALUE(B10),'Listing Players'!A:I,8,FALSE) -> JUN3 | E10: 40 | F10: 0 | G10: 0 | H10: 0 | I10: 0 | J10: =SUM(LARGE(E10:G10,1), LARGE(E10:G10,2),H10:I10) -> 40
A11: 9 | B11: 523089 | C11: =CONCATENATE(VLOOKUP(VALUE(B11),'Listing Players'!A:I,2,FALSE)," ",VLOOKUP(VALUE(B11),'Listing Players'!A:I,3,FALSE)," - ",VLOOKUP(VALUE(B11),'Listing Players'!A:I,4,FALSE)," - ",VLOOKUP(VALUE(B11),'Listing Players'!A:I,5,FALSE)) -> LUTSENKO VITJA - Vl-B283 - B0 | D11: =VLOOKUP(VALUE(B11),'Listing Players'!A:I,8,FALSE) -> JUN3 | E11: 35 | F11: 0 | G11: 0 | H11: 0 | I11: 0 | J11: =SUM(LARGE(E11:G11,1), LARGE(E11:G11,2),H11:I11) -> 35
A12: 10 | B12: 162682 | C12: =CONCATENATE(VLOOKUP(VALUE(B12),'Listing Players'!A:I,2,FALSE)," ",VLOOKUP(VALUE(B12),'Listing Players'!A:I,3,FALSE)," - ",VLOOKUP(VALUE(B12),'Listing Players'!A:I,4,FALSE)," - ",VLOOKUP(VALUE(B12),'Listing Players'!A:I,5,FALSE)) -> BROCCOLO LUKA - BBW165 - B2 | D12: =VLOOKUP(VALUE(B12),'Listing Players'!A:I,8,FALSE) -> JUN3 | E12: 30 | F12: 0 | G12: 0 | H12: 0 | I12: 0 | J12: =SUM(LARGE(E12:G12,1), LARGE(E12:G12,2),H12:I12) -> 30
A13: 11 | B13: 519428 | C13: =CONCATENATE(VLOOKUP(VALUE(B13),'Listing Players'!A:I,2,FALSE)," ",VLOOKUP(VALUE(B13),'Listing Players'!A:I,3,FALSE)," - ",VLOOKUP(VALUE(B13),'Listing Players'!A:I,4,FALSE)," - ",VLOOKUP(VALUE(B13),'Listing Players'!A:I,5,FALSE)) -> VERTOMMEN THOMAS - Vl-B234 - B4 | D13: =VLOOKUP(VALUE(B13),'Listing Players'!A:I,8,FALSE) -> JUN2 | E13: 25 | F13: 0 | G13: 0 | H13: 0 | I13: 0 | J13: =SUM(LARGE(E13:G13,1), LARGE(E13:G13,2),H13:I13) -> 25
A14: 12 | B14: 529740 | C14: =CONCATENATE(VLOOKUP(VALUE(B14),'Listing Players'!A:I,2,FALSE)," ",VLOOKUP(VALUE(B14),'Listing Players'!A:I,3,FALSE)," - ",VLOOKUP(VALUE(B14),'Listing Players'!A:I,4,FALSE)," - ",VLOOKUP(VALUE(B14),'Listing Players'!A:I,5,FALSE)) -> VIZZINI TIMEO - Vl-B225 - B4 | D14: =VLOOKUP(VALUE(B14),'Listing Players'!A:I,8,FALSE) -> JUN1 | E14: 20 | F14: 0 | G14: 0 | H14: 0 | I14: 0 | J14: =SUM(LARGE(E14:G14,1), LARGE(E14:G14,2),H14:I14) -> 20
... A21: 19 | B21: 155921 | C21: =CONCATENATE(VLOOKUP(VALUE(B21),'Listing Players'!A:I,2,FALSE)," ",VLOOKUP(VALUE(B21),'Listing Players'!A:I,3,FALSE)," - ",VLOOKUP(VALUE(B21),'Listing Players'!A:I,4,FALSE)," - ",VLOOKUP(VALUE(B21),'Listing Players'!A:I,5,FALSE)) -> DELANNOY NATHAN - N104 - B6 | D21: =VLOOKUP(VALUE(B21),'Listing Players'!A:I,8,FALSE) -> JUN2 | E21: 6 | F21: 0 | G21: 0 | H21: 0 | I21: 0 | J21: =SUM(LARGE(E21:G21,1), LARGE(E21:G21,2),H21:I21) -> 6

Sheet YR Boys - Mixte MIN_CAD
A1: Youth Ranking Boys - Mixte Cadets & Minimes | E1: 2024-2025
A2: Place | B2: Id | C2: Player | D2: Category | E2: NJC / CNJ 1 | F2: NJC / CNJ 2 | G2: NJC / CNJ 3 | H2: CB / BK | I2: TOP 12 | J2: TOTAL
A3: 1 | B3: 158635 | C3: =CONCATENATE(VLOOKUP(VALUE(B3),'Listing Players'!A:I,2,FALSE)," ",VLOOKUP(VALUE(B3),'Listing Players'!A:I,3,FALSE)," - ",VLOOKUP(VALUE(B3),'Listing Players'!A:I,4,FALSE)," - ",VLOOKUP(VALUE(B3),'Listing Players'!A:I,5,FALSE)) -> PIETTE NOAN - N051 - B2 | D3: =VLOOKUP(VALUE(B3),'Listing Players'!A:I,8,FALSE) -> CAD2 | E3: 75 | F3: 0 | G3: 0 | H3: 0 | I3: 0 | J3: =SUM(LARGE(E3:G3,1), LARGE(E3:G3,2),H3:I3) -> 75
A4: 2 | B4: 523102 | C4: =CONCATENATE(VLOOKUP(VALUE(B4),'Listing Players'!A:I,2,FALSE)," ",VLOOKUP(VALUE(B4),'Listing Players'!A:I,3,FALSE)," - ",VLOOKUP(VALUE(B4),'Listing Players'!A:I,4,FALSE)," - ",VLOOKUP(VALUE(B4),'Listing Players'!A:I,5,FALSE)) -> ZHANG ZIQIAN BRYAN - OVL032 - B2 | D4: =VLOOKUP(VALUE(B4),'Listing Players'!A:I,8,FALSE) -> CAD2 | E4: 70 | F4: 0 | G4: 0 | H4: 0 | I4: 0 | J4: =SUM(LARGE(E4:G4,1), LARGE(E4:G4,2),H4:I4) -> 70
A5: 3 | B5: 161746 | C5: =CONCATENATE(VLOOKUP(VALUE(B5),'Listing Players'!A:I,2,FALSE)," ",VLOOKUP(VALUE(B5),'Listing Players'!A:I,3,FALSE)," - ",VLOOKUP(VALUE(B5),'Listing Players'!A:I,4,FALSE)," - ",VLOOKUP(VALUE(B5),'Listing Players'!A:I,5,FALSE)) -> DEDEKEN JULIAN - BBW319 - B4 | D5: =VLOOKUP(VALUE(B5),'Listing Players'!A:I,8,FALSE) -> CAD1 | E5: 65 | F5: 0 | G5: 0 | H5: 0 | I5: 0 | J5: =SUM(LARGE(E5:G5,1), LARGE(E5:G5,2),H5:I5) -> 65
A6: 4 | B6: 166576 | C6: =CONCATENATE(VLOOKUP(VALUE(B6),'Listing Players'!A:I,2,FALSE)," ",VLOOKUP(VALUE(B6),'Listing Players'!A:I,3,FALSE)," - ",VLOOKUP(VALUE(B6),'Listing Players'!A:I,4,FALSE)," - ",VLOOKUP(VALUE(B6),'Listing Players'!A:I,5,FALSE)) -> OLDENHOVE DE GUERTECHIN AUGUSTE - BBW179 - B4 | D6: =VLOOKUP(VALUE(B6),'Listing Players'!A:I,8,FALSE) -> CAD2 | E6: 60 | F6: 0 | G6: 0 | H6: 0 | I6: 0 | J6: =SUM(LARGE(E6:G6,1), LARGE(E6:G6,2),H6:I6) -> 60
A7: 5 | B7: 168773 | C7: =CONCATENATE(VLOOKUP(VALUE(B7),'Listing Players'!A:I,2,FALSE)," ",VLOOKUP(VALUE(B7),'Listing Players'!A:I,3,FALSE)," - ",VLOOKUP(VALUE(B7),'Listing Players'!A:I,4,FALSE)," - ",VLOOKUP(VALUE(B7),'Listing Players'!A:I,5,FALSE)) -> CAMBIER FLORIAN - BBW165 - B4 | D7: =VLOOKUP(VALUE(B7),'Listing Players'!A:I,8,FALSE) -> MIN2 | E7: 55 | F7: 0 | G7: 0 | H7: 0 | I7: 0 | J7: =SUM(LARGE(E7:G7,1), LARGE(E7:G7,2),H7:I7) -> 55
A8: 6 | B8: 163018 | C8: =CONCATENATE(VLOOKUP(VALUE(B8),'Listing Players'!A:I,2,FALSE)," ",VLOOKUP(VALUE(B8),'Listing Players'!A:I,3,FALSE)," - ",VLOOKUP(VALUE(B8),'Listing Players'!A:I,4,FALSE)," - ",VLOOKUP(VALUE(B8),'Listing Players'!A:I,5,FALSE)) -> HIBEN THEO - BBW123 - B6 | D8: =VLOOKUP(VALUE(B8),'Listing Players'!A:I,8,FALSE) -> CAD2 | E8: 50 | F8: 0 | G8: 0 | H8: 0 | I8: 0 | J8: =SUM(LARGE(E8:G8,1), LARGE(E8:G8,2),H8:I8) -> 50
A9: 7 | B9: 158038 | C9: =CONCATENATE(VLOOKUP(VALUE(B9),'Listing Players'!A:I,2,FALSE)," ",VLOOKUP(VALUE(B9),'Listing Players'!A:I,3,FALSE)," - ",VLOOKUP(VALUE(B9),'Listing Players'!A:I,4,FALSE)," - ",VLOOKUP(VALUE(B9),'Listing Players'!A:I,5,FALSE)) -> PIRE ALEXANDRE - N104 - B2 | D9: =VLOOKUP(VALUE(B9),'Listing Players'!A:I,8,FALSE) -> CAD2 | E9: 45 | F9: 0 | G9: 0 | H9: 0 | I9: 0 | J9: =SUM(LARGE(E9:G9,1), LARGE(E9:G9,2),H9:I9) -> 45
A10: 8 | B10: 160647 | C10: =CONCATENATE(VLOOKUP(VALUE(B10),'Listing Players'!A:I,2,FALSE)," ",VLOOKUP(VALUE(B10),'Listing Players'!A:I,3,FALSE)," - ",VLOOKUP(VALUE(B10),'Listing Players'!A:I,4,FALSE)," - ",VLOOKUP(VALUE(B10),'Listing Players'!A:I,5,FALSE)) -> PIRET THEO - L264 - B6 | D10: =VLOOKUP(VALUE(B10),'Listing Players'!A:I,8,FALSE) -> CAD2 | E10: 40 | F10: 0 | G10: 0 | H10: 0 | I10: 0 | J10: =SUM(LARGE(E10:G10,1), LARGE(E10:G10,2),H10:I10) -> 40
A11: 9 | B11: 166640 | C11: =CONCATENATE(VLOOKUP(VALUE(B11),'Listing Players'!A:I,2,FALSE)," ",VLOOKUP(VALUE(B11),'Listing Players'!A:I,3,FALSE)," - ",VLOOKUP(VALUE(B11),'Listing Players'!A:I,4,FALSE)," - ",VLOOKUP(VALUE(B11),'Listing Players'!A:I,5,FALSE)) -> HERMANNS TIAGO - L323 - B4 | D11: =VLOOKUP(VALUE(B11),'Listing Players'!A:I,8,FALSE) -> CAD2 | E11: 35 | F11: 0 | G11: 0 | H11: 0 | I11: 0 | J11: =SUM(LARGE(E11:G11,1), LARGE(E11:G11,2),H11:I11) -> 35
A12: 10 | B12: 162062 | C12: =CONCATENATE(VLOOKUP(VALUE(B12),'Listing Players'!A:I,2,FALSE)," ",VLOOKUP(VALUE(B12),'Listing Players'!A:I,3,FALSE)," - ",VLOOKUP(VALUE(B12),'Listing Players'!A:I,4,FALSE)," - ",VLOOKUP(VALUE(B12),'Listing Players'!A:I,5,FALSE)) -> VANDENBULCKE SAM - H307 - B4 | D12: =VLOOKUP(VALUE(B12),'Listing Players'!A:I,8,FALSE) -> CAD1 | E12: 30 | F12: 0 | G12: 0 | H12: 0 | I12: 0 | J12: =SUM(LARGE(E12:G12,1), LARGE(E12:G12,2),H12:I12) -> 30
A13: 11 | B13: 159583 | C13: =CONCATENATE(VLOOKUP(VALUE(B13),'Listing Players'!A:I,2,FALSE)," ",VLOOKUP(VALUE(B13),'Listing Players'!A:I,3,FALSE)," - ",VLOOKUP(VALUE(B13),'Listing Players'!A:I,4,FALSE)," - ",VLOOKUP(VALUE(B13),'Listing Players'!A:I,5,FALSE)) -> GERSON EDOUARD - L119 - B4 | D13: =VLOOKUP(VALUE(B13),'Listing Players'!A:I,8,FALSE) -> CAD1 | E13: 25 | F13: 0 | G13: 0 | H13: 0 | I13: 0 | J13: =SUM(LARGE(E13:G13,1), LARGE(E13:G13,2),H13:I13) -> 25
A14: 12 | B14: 528929 | C14: =CONCATENATE(VLOOKUP(VALUE(B14),'Listing Players'!A:I,2,FALSE)," ",VLOOKUP(VALUE(B14),'Listing Players'!A:I,3,FALSE)," - ",VLOOKUP(VALUE(B14),'Listing Players'!A:I,4,FALSE)," - ",VLOOKUP(VALUE(B14),'Listing Players'!A:I,5,FALSE)) -> MOORKENS JOPPE - A147 - B6 | D14: =VLOOKUP(VALUE(B14),'Listing Players'!A:I,8,FALSE) -> CAD1 | E14: 20 | F14: 0 | G14: 0 | H14: 0 | I14: 0 | J14: =SUM(LARGE(E14:G14,1), LARGE(E14:G14,2),H14:I14) -> 20
... A43: 41 | B43: 170349 | C43: =CONCATENATE(VLOOKUP(VALUE(B43),'Listing Players'!A:I,2,FALSE)," ",VLOOKUP(VALUE(B43),'Listing Players'!A:I,3,FALSE)," - ",VLOOKUP(VALUE(B43),'Listing Players'!A:I,4,FALSE)," - ",VLOOKUP(VALUE(B43),'Listing Players'!A:I,5,FALSE)) -> CHAMPION TIMOTHE - H041 - D6 | D43: =VLOOKUP(VALUE(B43),'Listing Players'!A:I,8,FALSE) -> MIN2 | E43: 1 | F43: 0 | G43: 0 | H43: 0 | I43: 0 | J43: =SUM(LARGE(E43:G43,1), LARGE(E43:G43,2),H43:I43) -> 1

Sheet YR Boys - CAD
A1: Youth Ranking Boys - Cadets | E1: 2024-2025
A2: Place | B2: Id | C2: Player | D2: Category | E2: NJC / CNJ 1 | F2: NJC / CNJ 2 | G2: NJC / CNJ 3 | H2: CB / BK | I2: TOP 12 | J2: TOTAL
A3: 1 | B3: 158635 | C3: =CONCATENATE(VLOOKUP(VALUE(B3),'Listing Players'!A:I,2,FALSE)," ",VLOOKUP(VALUE(B3),'Listing Players'!A:I,3,FALSE)," - ",VLOOKUP(VALUE(B3),'Listing Players'!A:I,4,FALSE)," - ",VLOOKUP(VALUE(B3),'Listing Players'!A:I,5,FALSE)) -> PIETTE NOAN - N051 - B2 | D3: =VLOOKUP(VALUE(B3),'Listing Players'!A:I,8,FALSE) -> CAD2 | E3: 75 | F3: 0 | G3: 0 | H3: 0 | I3: 0 | J3: =SUM(LARGE(E3:G3,1), LARGE(E3:G3,2),H3:I3) -> 75
A4: 2 | B4: 523102 | C4: =CONCATENATE(VLOOKUP(VALUE(B4),'Listing Players'!A:I,2,FALSE)," ",VLOOKUP(VALUE(B4),'Listing Players'!A:I,3,FALSE)," - ",VLOOKUP(VALUE(B4),'Listing Players'!A:I,4,FALSE)," - ",VLOOKUP(VALUE(B4),'Listing Players'!A:I,5,FALSE)) -> ZHANG ZIQIAN BRYAN - OVL032 - B2 | D4: =VLOOKUP(VALUE(B4),'Listing Players'!A:I,8,FALSE) -> CAD2 | E4: 70 | F4: 0 | G4: 0 | H4: 0 | I4: 0 | J4: =SUM(LARGE(E4:G4,1), LARGE(E4:G4,2),H4:I4) -> 70
A5: 3 | B5: 161746 | C5: =CONCATENATE(VLOOKUP(VALUE(B5),'Listing Players'!A:I,2,FALSE)," ",VLOOKUP(VALUE(B5),'Listing Players'!A:I,3,FALSE)," - ",VLOOKUP(VALUE(B5),'Listing Players'!A:I,4,FALSE)," - ",VLOOKUP(VALUE(B5),'Listing Players'!A:I,5,FALSE)) -> DEDEKEN JULIAN - BBW319 - B4 | D5: =VLOOKUP(VALUE(B5),'Listing Players'!A:I,8,FALSE) -> CAD1 | E5: 65 | F5: 0 | G5: 0 | H5: 0 | I5: 0 | J5: =SUM(LARGE(E5:G5,1), LARGE(E5:G5,2),H5:I5) -> 65
A6: 4 | B6: 166576 | C6: =CONCATENATE(VLOOKUP(VALUE(B6),'Listing Players'!A:I,2,FALSE)," ",VLOOKUP(VALUE(B6),'Listing Players'!A:I,3,FALSE)," - ",VLOOKUP(VALUE(B6),'Listing Players'!A:I,4,FALSE)," - ",VLOOKUP(VALUE(B6),'Listing Players'!A:I,5,FALSE)) -> OLDENHOVE DE GUERTECHIN AUGUSTE - BBW179 - B4 | D6: =VLOOKUP(VALUE(B6),'Listing Players'!A:I,8,FALSE) -> CAD2 | E6: 60 | F6: 0 | G6: 0 | H6: 0 | I6: 0 | J6: =SUM(LARGE(E6:G6,1), LARGE(E6:G6,2),H6:I6) -> 60
A7: 5 | B7: 163018 | C7: =CONCATENATE(VLOOKUP(VALUE(B7),'Listing Players'!A:I,2,FALSE)," ",VLOOKUP(VALUE(B7),'Listing Players'!A:I,3,FALSE)," - ",VLOOKUP(VALUE(B7),'Listing Players'!A:I,4,FALSE)," - ",VLOOKUP(VALUE(B7),'Listing Players'!A:I,5,FALSE)) -> HIBEN THEO - BBW123 - B6 | D7: =VLOOKUP(VALUE(B7),'Listing Players'!A:I,8,FALSE) -> CAD2 | E7: 55 | F7: 0 | G7: 0 | H7: 0 | I7: 0 | J7: =SUM(LARGE(E7:G7,1), LARGE(E7:G7,2),H7:I7) -> 55
A8: 6 | B8: 158038 | C8: =CONCATENATE(VLOOKUP(VALUE(B8),'Listing Players'!A:I,2,FALSE)," ",VLOOKUP(VALUE(B8),'Listing Players'!A:I,3,FALSE)," - ",VLOOKUP(VALUE(B8),'Listing Players'!A:I,4,FALSE)," - ",VLOOKUP(VALUE(B8),'Listing Players'!A:I,5,FALSE)) -> PIRE ALEXANDRE - N104 - B2 | D8: =VLOOKUP(VALUE(B8),'Listing Players'!A:I,8,FALSE) -> CAD2 | E8: 50 | F8: 0 | G8: 0 | H8: 0 | I8: 0 | J8: =SUM(LARGE(E8:G8,1), LARGE(E8:G8,2),H8:I8) -> 50
A9: 7 | B9: 160647 | C9: =CONCATENATE(VLOOKUP(VALUE(B9),'Listing Players'!A:I,2,FALSE)," ",VLOOKUP(VALUE(B9),'Listing Players'!A:I,3,FALSE)," - ",VLOOKUP(VALUE(B9),'Listing Players'!A:I,4,FALSE)," - ",VLOOKUP(VALUE(B9),'Listing Players'!A:I,5,FALSE)) -> PIRET THEO - L264 - B6 | D9: =VLOOKUP(VALUE(B9),'Listing Players'!A:I,8,FALSE) -> CAD2 | E9: 45 | F9: 0 | G9: 0 | H9: 0 | I9: 0 | J9: =SUM(LARGE(E9:G9,1), LARGE(E9:G9,2),H9:I9) -> 45
A10: 8 | B10: 166640 | C10: =CONCATENATE(VLOOKUP(VALUE(B10),'Listing Players'!A:I,2,FALSE)," ",VLOOKUP(VALUE(B10),'Listing Players'!A:I,3,FALSE)," - ",VLOOKUP(VALUE(B10),'Listing Players'!A:I,4,FALSE)," - ",VLOOKUP(VALUE(B10),'Listing Players'!A:I,5,FALSE)) -> HERMANNS TIAGO - L323 - B4 | D10: =VLOOKUP(VALUE(B10),'Listing Players'!A:I,8,FALSE) -> CAD2 | E10: 40 | F10: 0 | G10: 0 | H10: 0 | I10: 0 | J10: =SUM(LARGE(E10:G10,1), LARGE(E10:G10,2),H10:I10) -> 40
A11: 9 | B11: 162062 | C11: =CONCATENATE(VLOOKUP(VALUE(B11),'Listing Players'!A:I,2,FALSE)," ",VLOOKUP(VALUE(B11),'Listing Players'!A:I,3,FALSE)," - ",VLOOKUP(VALUE(B11),'Listing Players'!A:I,4,FALSE)," - ",VLOOKUP(VALUE(B11),'Listing Players'!A:I,5,FALSE)) -> VANDENBULCKE SAM - H307 - B4 | D11: =VLOOKUP(VALUE(B11),'Listing Players'!A:I,8,FALSE) -> CAD1 | E11: 35 | F11: 0 | G11: 0 | H11: 0 | I11: 0 | J11: =SUM(LARGE(E11:G11,1), LARGE(E11:G11,2),H11:I11) -> 35
A12: 10 | B12: 159583 | C12: =CONCATENATE(VLOOKUP(VALUE(B12),'Listing Players'!A:I,2,FALSE)," ",VLOOKUP(VALUE(B12),'Listing Players'!A:I,3,FALSE)," - ",VLOOKUP(VALUE(B12),'Listing Players'!A:I,4,FALSE)," - ",VLOOKUP(VALUE(B12),'Listing Players'!A:I,5,FALSE)) -> GERSON EDOUARD - L119 - B4 | D12: =VLOOKUP(VALUE(B12),'Listing Players'!A:I,8,FALSE) -> CAD1 | E12: 30 | F12: 0 | G12: 0 | H12: 0 | I12: 0 | J12: =SUM(LARGE(E12:G12,1), LARGE(E12:G12,2),H12:I12) -> 30
A13: 11 | B13: 528929 | C13: =CONCATENATE(VLOOKUP(VALUE(B13),'Listing Players'!A:I,2,FALSE)," ",VLOOKUP(VALUE(B13),'Listing Players'!A:I,3,FALSE)," - ",VLOOKUP(VALUE(B13),'Listing Players'!A:I,4,FALSE)," - ",VLOOKUP(VALUE(B13),'Listing Players'!A:I,5,FALSE)) -> MOORKENS JOPPE - A147 - B6 | D13: =VLOOKUP(VALUE(B13),'Listing Players'!A:I,8,FALSE) -> CAD1 | E13: 25 | F13: 0 | G13: 0 | H13: 0 | I13: 0 | J13: =SUM(LARGE(E13:G13,1), LARGE(E13:G13,2),H13:I13) -> 25
A14: 12 | B14: 162060 | C14: =CONCATENATE(VLOOKUP(VALUE(B14),'Listing Players'!A:I,2,FALSE)," ",VLOOKUP(VALUE(B14),'Listing Players'!A:I,3,FALSE)," - ",VLOOKUP(VALUE(B14),'Listing Players'!A:I,4,FALSE)," - ",VLOOKUP(VALUE(B14),'Listing Players'!A:I,5,FALSE)) -> WARRAND NOA - H297 - B4 | D14: =VLOOKUP(VALUE(B14),'Listing Players'!A:I,8,FALSE) -> CAD1 | E14: 20 | F14: 0 | G14: 0 | H14: 0 | I14: 0 | J14: =SUM(LARGE(E14:G14,1), LARGE(E14:G14,2),H14:I14) -> 20
... A27: 25 | B27: 523926 | C27: =CONCATENATE(VLOOKUP(VALUE(B27),'Listing Players'!A:I,2,FALSE)," ",VLOOKUP(VALUE(B27),'Listing Players'!A:I,3,FALSE)," - ",VLOOKUP(VALUE(B27),'Listing Players'!A:I,4,FALSE)," - ",VLOOKUP(VALUE(B27),'Listing Players'!A:I,5,FALSE)) -> BRAEKERS THOMAS - LK007 - C2 | D27: =VLOOKUP(VALUE(B27),'Listing Players'!A:I,8,FALSE) -> CAD2 | E27: 1 | F27: 0 | G27: 0 | H27: 0 | I27: 0 | J27: =SUM(LARGE(E27:G27,1), LARGE(E27:G27,2),H27:I27) -> 1

Sheet YR Boys - MIN
A1: Youth Ranking Boys - Minimes | E1: 2024-2025
A2: Place | B2: Id | C2: Player | D2: Category | E2: NJC / CNJ 1 | F2: NJC / CNJ 2 | G2: NJC / CNJ 3 | H2: CB / BK | I2: TOP 12 | J2: TOTAL
A3: 1 | B3: 168773 | C3: =CONCATENATE(VLOOKUP(VALUE(B3),'Listing Players'!A:I,2,FALSE)," ",VLOOKUP(VALUE(B3),'Listing Players'!A:I,3,FALSE)," - ",VLOOKUP(VALUE(B3),'Listing Players'!A:I,4,FALSE)," - ",VLOOKUP(VALUE(B3),'Listing Players'!A:I,5,FALSE)) -> CAMBIER FLORIAN - BBW165 - B4 | D3: =VLOOKUP(VALUE(B3),'Listing Players'!A:I,8,FALSE) -> MIN2 | E3: 75 | F3: 0 | G3: 0 | H3: 0 | I3: 0 | J3: =SUM(LARGE(E3:G3,1), LARGE(E3:G3,2),H3:I3) -> 75
A4: 2 | B4: 532460 | C4: =CONCATENATE(VLOOKUP(VALUE(B4),'Listing Players'!A:I,2,FALSE)," ",VLOOKUP(VALUE(B4),'Listing Players'!A:I,3,FALSE)," - ",VLOOKUP(VALUE(B4),'Listing Players'!A:I,4,FALSE)," - ",VLOOKUP(VALUE(B4),'Listing Players'!A:I,5,FALSE)) -> MEHRJOO SINA - Vl-B225 - D2 | D4: =VLOOKUP(VALUE(B4),'Listing Players'!A:I,8,FALSE) -> MIN1 | E4: 70 | F4: 0 | G4: 0 | H4: 0 | I4: 0 | J4: =SUM(LARGE(E4:G4,1), LARGE(E4:G4,2),H4:I4) -> 70
A5: 3 | B5: 168240 | C5: =CONCATENATE(VLOOKUP(VALUE(B5),'Listing Players'!A:I,2,FALSE)," ",VLOOKUP(VALUE(B5),'Listing Players'!A:I,3,FALSE)," - ",VLOOKUP(VALUE(B5),'Listing Players'!A:I,4,FALSE)," - ",VLOOKUP(VALUE(B5),'Listing Players'!A:I,5,FALSE)) -> ASSENMAKER THEO - BBW165 - C4 | D5: =VLOOKUP(VALUE(B5),'Listing Players'!A:I,8,FALSE) -> MIN2 | E5: 65 | F5: 0 | G5: 0 | H5: 0 | I5: 0 | J5: =SUM(LARGE(E5:G5,1), LARGE(E5:G5,2),H5:I5) -> 65
A6: 4 | B6: 165496 | C6: =CONCATENATE(VLOOKUP(VALUE(B6),'Listing Players'!A:I,2,FALSE)," ",VLOOKUP(VALUE(B6),'Listing Players'!A:I,3,FALSE)," - ",VLOOKUP(VALUE(B6),'Listing Players'!A:I,4,FALSE)," - ",VLOOKUP(VALUE(B6),'Listing Players'!A:I,5,FALSE)) -> FARHI THINSY HUGO - BBW165 - C2 | D6: =VLOOKUP(VALUE(B6),'Listing Players'!A:I,8,FALSE) -> MIN2 | E6: 60 | F6: 0 | G6: 0 | H6: 0 | I6: 0 | J6: =SUM(LARGE(E6:G6,1), LARGE(E6:G6,2),H6:I6) -> 60
A7: 5 | B7: 169774 | C7: =CONCATENATE(VLOOKUP(VALUE(B7),'Listing Players'!A:I,2,FALSE)," ",VLOOKUP(VALUE(B7),'Listing Players'!A:I,3,FALSE)," - ",VLOOKUP(VALUE(B7),'Listing Players'!A:I,4,FALSE)," - ",VLOOKUP(VALUE(B7),'Listing Players'!A:I,5,FALSE)) -> TASSIN DRISS - H149 - D0 | D7: =VLOOKUP(VALUE(B7),'Listing Players'!A:I,8,FALSE) -> MIN1 | E7: 55 | F7: 0 | G7: 0 | H7: 0 | I7: 0 | J7: =SUM(LARGE(E7:G7,1), LARGE(E7:G7,2),H7:I7) -> 55
A8: 6 | B8: 525179 | C8: =CONCATENATE(VLOOKUP(VALUE(B8),'Listing Players'!A:I,2,FALSE)," ",VLOOKUP(VALUE(B8),'Listing Players'!A:I,3,FALSE)," - ",VLOOKUP(VALUE(B8),'Listing Players'!A:I,4,FALSE)," - ",VLOOKUP(VALUE(B8),'Listing Players'!A:I,5,FALSE)) -> BEERTS BRAM - Vl-B234 - D4 | D8: =VLOOKUP(VALUE(B8),'Listing Players'!A:I,8,FALSE) -> MIN2 | E8: 50 | F8: 0 | G8: 0 | H8: 0 | I8: 0 | J8: =SUM(LARGE(E8:G8,1), LARGE(E8:G8,2),H8:I8) -> 50
A9: 7 | B9: 165356 | C9: =CONCATENATE(VLOOKUP(VALUE(B9),'Listing Players'!A:I,2,FALSE)," ",VLOOKUP(VALUE(B9),'Listing Players'!A:I,3,FALSE)," - ",VLOOKUP(VALUE(B9),'Listing Players'!A:I,4,FALSE)," - ",VLOOKUP(VALUE(B9),'Listing Players'!A:I,5,FALSE)) -> MAECK DELVAUX MATHEO - BBW165 - C4 | D9: =VLOOKUP(VALUE(B9),'Listing Players'!A:I,8,FALSE) -> MIN1 | E9: 45 | F9: 0 | G9: 0 | H9: 0 | I9: 0 | J9: =SUM(LARGE(E9:G9,1), LARGE(E9:G9,2),H9:I9) -> 45
A10: 8 | B10: 170464 | C10: =CONCATENATE(VLOOKUP(VALUE(B10),'Listing Players'!A:I,2,FALSE)," ",VLOOKUP(VALUE(B10),'Listing Players'!A:I,3,FALSE)," - ",VLOOKUP(VALUE(B10),'Listing Players'!A:I,4,FALSE)," - ",VLOOKUP(VALUE(B10),'Listing Players'!A:I,5,FALSE)) -> BUYCK AKYO - BBW165 - D0 | D10: =VLOOKUP(VALUE(B10),'Listing Players'!A:I,8,FALSE) -> MIN1 | E10: 40 | F10: 0 | G10: 0 | H10: 0 | I10: 0 | J10: =SUM(LARGE(E10:G10,1), LARGE(E10:G10,2),H10:I10) -> 40
A11: 9 | B11: 166452 | C11: =CONCATENATE(VLOOKUP(VALUE(B11),'Listing Players'!A:I,2,FALSE)," ",VLOOKUP(VALUE(B11),'Listing Players'!A:I,3,FALSE)," - ",VLOOKUP(VALUE(B11),'Listing Players'!A:I,4,FALSE)," - ",VLOOKUP(VALUE(B11),'Listing Players'!A:I,5,FALSE)) -> FRANCKINIOULLE OSCAR - N104 - C4 | D11: =VLOOKUP(VALUE(B11),'Listing Players'!A:I,8,FALSE) -> MIN2 | E11: 35 | F11: 0 | G11: 0 | H11: 0 | I11: 0 | J11: =SUM(LARGE(E11:G11,1), LARGE(E11:G11,2),H11:I11) -> 35
A12: 10 | B12: 166618 | C12: =CONCATENATE(VLOOKUP(VALUE(B12),'Listing Players'!A:I,2,FALSE)," ",VLOOKUP(VALUE(B12),'Listing Players'!A:I,3,FALSE)," - ",VLOOKUP(VALUE(B12),'Listing Players'!A:I,4,FALSE)," - ",VLOOKUP(VALUE(B12),'Listing Players'!A:I,5,FALSE)) -> KRZYSCIAK THOMAS - BBW165 - D0 | D12: =VLOOKUP(VALUE(B12),'Listing Players'!A:I,8,FALSE) -> MIN1 | E12: 30 | F12: 0 | G12: 0 | H12: 0 | I12: 0 | J12: =SUM(LARGE(E12:G12,1), LARGE(E12:G12,2),H12:I12) -> 30
A13: 11 | B13: 173486 | C13: =CONCATENATE(VLOOKUP(VALUE(B13),'Listing Players'!A:I,2,FALSE)," ",VLOOKUP(VALUE(B13),'Listing Players'!A:I,3,FALSE)," - ",VLOOKUP(VALUE(B13),'Listing Players'!A:I,4,FALSE)," - ",VLOOKUP(VALUE(B13),'Listing Players'!A:I,5,FALSE)) -> SEVERS MAXIM - BBW179 - D0 | D13: =VLOOKUP(VALUE(B13),'Listing Players'!A:I,8,FALSE) -> MIN2 | E13: 25 | F13: 0 | G13: 0 | H13: 0 | I13: 0 | J13: =SUM(LARGE(E13:G13,1), LARGE(E13:G13,2),H13:I13) -> 25
A14: 12 | B14: 168387 | C14: =CONCATENATE(VLOOKUP(VALUE(B14),'Listing Players'!A:I,2,FALSE)," ",VLOOKUP(VALUE(B14),'Listing Players'!A:I,3,FALSE)," - ",VLOOKUP(VALUE(B14),'Listing Players'!A:I,4,FALSE)," - ",VLOOKUP(VALUE(B14),'Listing Players'!A:I,5,FALSE)) -> VALENCIA LACAMPA JOAQUIM - BBW319 - D2 | D14: =VLOOKUP(VALUE(B14),'Listing Players'!A:I,8,FALSE) -> MIN1 | E14: 20 | F14: 0 | G14: 0 | H14: 0 | I14: 0 | J14: =SUM(LARGE(E14:G14,1), LARGE(E14:G14,2),H14:I14) -> 20
... A18: 16 | B18: 170349 | C18: =CONCATENATE(VLOOKUP(VALUE(B18),'Listing Players'!A:I,2,FALSE)," ",VLOOKUP(VALUE(B18),'Listing Players'!A:I,3,FALSE)," - ",VLOOKUP(VALUE(B18),'Listing Players'!A:I,4,FALSE)," - ",VLOOKUP(VALUE(B18),'Listing Players'!A:I,5,FALSE)) -> CHAMPION TIMOTHE - H041 - D6 | D18: =VLOOKUP(VALUE(B18),'Listing Players'!A:I,8,FALSE) -> MIN2 | E18: 12 | F18: 0 | G18: 0 | H18: 0 | I18: 0 | J18: =SUM(LARGE(E18:G18,1), LARGE(E18:G18,2),H18:I18) -> 12

Sheet YR Boys - PMIN
A1: Youth Ranking Boys - Préminimes | E1: 2024-2025
A2: Place | B2: Id | C2: Player | D2: Category | E2: NJC / CNJ 1 | F2: NJC / CNJ 2 | G2: NJC / CNJ 3 | H2: CB / BK | I2: TOP 12 | J2: TOTAL
A3: 1 | B3: 170267 | C3: =CONCATENATE(VLOOKUP(B3,'Listing Players'!A:I,2,FALSE)," ",VLOOKUP(B3,'Listing Players'!A:I,3,FALSE)," - ",VLOOKUP(B3,'Listing Players'!A:I,4,FALSE)," - ",VLOOKUP(B3,'Listing Players'!A:I,5,FALSE)) -> DUPUIS BULAMBO JEAN-MICHEL - BBW165 - C2 | D3: =VLOOKUP(VALUE(B3),'Listing Players'!A:I,8,FALSE) -> PMIN2 | E3: 75 | F3: 0 | G3: 0 | H3: 0 | I3: 0 | J3: =SUM(LARGE(E3:G3,1), LARGE(E3:G3,2),H3:I3) -> 75
A4: 2 | B4: 530722 | C4: =CONCATENATE(VLOOKUP(B4,'Listing Players'!A:I,2,FALSE)," ",VLOOKUP(B4,'Listing Players'!A:I,3,FALSE)," - ",VLOOKUP(B4,'Listing Players'!A:I,4,FALSE)," - ",VLOOKUP(B4,'Listing Players'!A:I,5,FALSE)) -> CEPEDA BRAEKMANS AIDEN - A182 - C2 | D4: =VLOOKUP(VALUE(B4),'Listing Players'!A:I,8,FALSE) -> PMIN2 | E4: 70 | F4: 0 | G4: 0 | H4: 0 | I4: 0 | J4: =SUM(LARGE(E4:G4,1), LARGE(E4:G4,2),H4:I4) -> 70
A5: 3 | B5: 168184 | C5: =CONCATENATE(VLOOKUP(B5,'Listing Players'!A:I,2,FALSE)," ",VLOOKUP(B5,'Listing Players'!A:I,3,FALSE)," - ",VLOOKUP(B5,'Listing Players'!A:I,4,FALSE)," - ",VLOOKUP(B5,'Listing Players'!A:I,5,FALSE)) -> HU LEO - BBW165 - C6 | D5: =VLOOKUP(VALUE(B5),'Listing Players'!A:I,8,FALSE) -> PMIN2 | E5: 65 | F5: 0 | G5: 0 | H5: 0 | I5: 0 | J5: =SUM(LARGE(E5:G5,1), LARGE(E5:G5,2),H5:I5) -> 65
A6: 4 | B6: 167651 | C6: =CONCATENATE(VLOOKUP(B6,'Listing Players'!A:I,2,FALSE)," ",VLOOKUP(B6,'Listing Players'!A:I,3,FALSE)," - ",VLOOKUP(B6,'Listing Players'!A:I,4,FALSE)," - ",VLOOKUP(B6,'Listing Players'!A:I,5,FALSE)) -> HENNAUT TIMO - H307 - C4 | D6: =VLOOKUP(VALUE(B6),'Listing Players'!A:I,8,FALSE) -> PMIN2 | E6: 60 | F6: 0 | G6: 0 | H6: 0 | I6: 0 | J6: =SUM(LARGE(E6:G6,1), LARGE(E6:G6,2),H6:I6) -> 60
A7: 5 | B7: 532724 | C7: =CONCATENATE(VLOOKUP(B7,'Listing Players'!A:I,2,FALSE)," ",VLOOKUP(B7,'Listing Players'!A:I,3,FALSE)," - ",VLOOKUP(B7,'Listing Players'!A:I,4,FALSE)," - ",VLOOKUP(B7,'Listing Players'!A:I,5,FALSE)) -> TALBOOM FINN - A182 - D2 | D7: =VLOOKUP(VALUE(B7),'Listing Players'!A:I,8,FALSE) -> PMIN2 | E7: 55 | F7: 0 | G7: 0 | H7: 0 | I7: 0 | J7: =SUM(LARGE(E7:G7,1), LARGE(E7:G7,2),H7:I7) -> 55
A8: 6 | B8: 525826 | C8: =CONCATENATE(VLOOKUP(B8,'Listing Players'!A:I,2,FALSE)," ",VLOOKUP(B8,'Listing Players'!A:I,3,FALSE)," - ",VLOOKUP(B8,'Listing Players'!A:I,4,FALSE)," - ",VLOOKUP(B8,'Listing Players'!A:I,5,FALSE)) -> ZHANG ZIJUN MAX - OVL032 - D4 | D8: =VLOOKUP(VALUE(B8),'Listing Players'!A:I,8,FALSE) -> PMIN2 | E8: 50 | F8: 0 | G8: 0 | H8: 0 | I8: 0 | J8: =SUM(LARGE(E8:G8,1), LARGE(E8:G8,2),H8:I8) -> 50
A9: 7 | B9: 167226 | C9: =CONCATENATE(VLOOKUP(B9,'Listing Players'!A:I,2,FALSE)," ",VLOOKUP(B9,'Listing Players'!A:I,3,FALSE)," - ",VLOOKUP(B9,'Listing Players'!A:I,4,FALSE)," - ",VLOOKUP(B9,'Listing Players'!A:I,5,FALSE)) -> KESSELS MARTIN - L284 - D2 | D9: =VLOOKUP(VALUE(B9),'Listing Players'!A:I,8,FALSE) -> PMIN2 | E9: 45 | F9: 0 | G9: 0 | H9: 0 | I9: 0 | J9: =SUM(LARGE(E9:G9,1), LARGE(E9:G9,2),H9:I9) -> 45
A10: 8 | B10: 173941 | C10: =CONCATENATE(VLOOKUP(B10,'Listing Players'!A:I,2,FALSE)," ",VLOOKUP(B10,'Listing Players'!A:I,3,FALSE)," - ",VLOOKUP(B10,'Listing Players'!A:I,4,FALSE)," - ",VLOOKUP(B10,'Listing Players'!A:I,5,FALSE)) -> HOUTAIN ARTHUR - BBW349 - E0 | D10: =VLOOKUP(VALUE(B10),'Listing Players'!A:I,8,FALSE) -> PMIN2 | E10: 40 | F10: 0 | G10: 0 | H10: 0 | I10: 0 | J10: =SUM(LARGE(E10:G10,1), LARGE(E10:G10,2),H10:I10) -> 40
A11: 9 | B11: 172659 | C11: =CONCATENATE(VLOOKUP(B11,'Listing Players'!A:I,2,FALSE)," ",VLOOKUP(B11,'Listing Players'!A:I,3,FALSE)," - ",VLOOKUP(B11,'Listing Players'!A:I,4,FALSE)," - ",VLOOKUP(B11,'Listing Players'!A:I,5,FALSE)) -> TAZINI HANI - BBW134 - E4 | D11: =VLOOKUP(VALUE(B11),'Listing Players'!A:I,8,FALSE) -> PMIN2 | E11: 35 | F11: 0 | G11: 0 | H11: 0 | I11: 0 | J11: =SUM(LARGE(E11:G11,1), LARGE(E11:G11,2),H11:I11) -> 35
A12: 10 | B12: 165498 | C12: =CONCATENATE(VLOOKUP(B12,'Listing Players'!A:I,2,FALSE)," ",VLOOKUP(B12,'Listing Players'!A:I,3,FALSE)," - ",VLOOKUP(B12,'Listing Players'!A:I,4,FALSE)," - ",VLOOKUP(B12,'Listing Players'!A:I,5,FALSE)) -> LERAT AARON - H070 - E0 | D12: =VLOOKUP(VALUE(B12),'Listing Players'!A:I,8,FALSE) -> PMIN1 | E12: 25 | F12: 0 | G12: 0 | H12: 0 | I12: 0 | J12: =SUM(LARGE(E12:G12,1), LARGE(E12:G12,2),H12:I12) -> 25
A13: 11 | B13: 165129 | C13: =CONCATENATE(VLOOKUP(B13,'Listing Players'!A:I,2,FALSE)," ",VLOOKUP(B13,'Listing Players'!A:I,3,FALSE)," - ",VLOOKUP(B13,'Listing Players'!A:I,4,FALSE)," - ",VLOOKUP(B13,'Listing Players'!A:I,5,FALSE)) -> JIANG LEO - H200 - E0 | D13: =VLOOKUP(VALUE(B13),'Listing Players'!A:I,8,FALSE) -> PMIN1 | E13: 20 | F13: 0 | G13: 0 | H13: 0 | I13: 0 | J13: =SUM(LARGE(E13:G13,1), LARGE(E13:G13,2),H13:I13) -> 20
A14: 12 | B14: 526419 | C14: =CONCATENATE(VLOOKUP(B14,'Listing Players'!A:I,2,FALSE)," ",VLOOKUP(B14,'Listing Players'!A:I,3,FALSE)," - ",VLOOKUP(B14,'Listing Players'!A:I,4,FALSE)," - ",VLOOKUP(B14,'Listing Players'!A:I,5,FALSE)) -> GEERTS MIL - A182 - D4 | D14: =VLOOKUP(VALUE(B14),'Listing Players'!A:I,8,FALSE) -> PMIN2 | E14: 18 | F14: 0 | G14: 0 | H14: 0 | I14: 0 | J14: =SUM(LARGE(E14:G14,1), LARGE(E14:G14,2),H14:I14) -> 18
... A21: 19 | B21: 173136 | C21: =CONCATENATE(VLOOKUP(B21,'Listing Players'!A:I,2,FALSE)," ",VLOOKUP(B21,'Listing Players'!A:I,3,FALSE)," - ",VLOOKUP(B21,'Listing Players'!A:I,4,FALSE)," - ",VLOOKUP(B21,'Listing Players'!A:I,5,FALSE)) -> PONCELET VICTOR - Lx120 - E4 | D21: =VLOOKUP(VALUE(B21),'Listing Players'!A:I,8,FALSE) -> PMIN2 | E21: 4 | F21: 0 | G21: 0 | H21: 0 | I21: 0 | J21: =SUM(LARGE(E21:G21,1), LARGE(E21:G21,2),H21:I21) -> 4

Sheet Listing Players
A1: Licence | B1: Nom | C1: Prenom | D1: Club | E1: Classement | F1: Points H | G1: Date de naissance | H1: Catégorie Précise | I1: ID Ranking
A2: 164548 | B2: CORYN | C2: YASMINE | D2: L323 | E2: B4 | F2: 960 | G2: 40694 | H2: CAD2 | I2: 1
A3: 169264 | B3: CORYN | C3: LINA | D3: N069 | E3: D0 | F3: 416.3 | G3: 41925 | H3: MIN1 | I3: 1
A4: 162751 | B4: HOUSIAUX | C4: CAPUCINE | D4: N104 | E4: C2 | F4: 785.74 | G4: 41848 | H4: MIN1 | I4: 7
A5: 172161 | B5: PAUWELS | C5: EMMA | D5: H254 | E5: D4 | F5: 262.01 | G5: 41719 | H5: MIN1 | I5: 12
A6: 161080 | B6: LEGROS | C6: EVA | D6: H203 | E6: D0 | F6: 384.36 | G6: 42222 | H6: PMIN2 | I6: 10
A7: 168558 | B7: TONDEUR CRAEMERS | C7: LEA | D7: H004 | E7: D2 | F7: 358.44 | G7: 41885 | H7: MIN1 | I7: 11
A8: 171742 | B8: TOFFOLI | C8: EMMA | D8: H004 | E8: NC | F8: 81.34 | G8: 42573 | H8: PMIN1 | I8: 18
A9: 171936 | B9: SVREN | C9: AMINA | D9: L264 | E9: D4 | F9: 377.8 | G9: 42029 | H9: PMIN2 | I9: 12
A10: 168514 | B10: BETTONVILLE | C10: MARIE | D10: BBW350 | E10: D4 | F10: 335 | G10: 41856 | H10: MIN1 | I10: 12
A11: 167891 | B11: VANSNICK | C11: VALENTINE | D11: H200 | E11: D0 | F11: 485.1 | G11: 42003 | H11: MIN1 | I11: 10
A12: 168680 | B12: ART | C12: LISE | D12: BBW350 | E12: C6 | F12: 580.55 | G12: 41088 | H12: CAD1 | I12: 9
A13: 155638 | B13: WARRAND | C13: ALICIA | D13: BBW165 | E13: B2 | F13: 1374.9 | G13: 39827 | H13: JUN2 | I13: 3
... A43: 524238 | B43: LEWYCKYJ | C43: LESSIA | D43: Vl-B283 | E43: B0 | F43: 1593.5 | G43: 39988 | H43: JUN2 | I43: 2
A44: 518894 | B44: NUYTTENS | C44: LOTTE | D44: Vl-B234 | E44: A16 | F44: 1684.3 | G44: 40043 | H44: JUN2 | I44: #N/A
A45: 526965 | B45: CHAPODZE | C45: MARIE | D45: OVL032 | E45: C4 | F45: 856.4 | G45: 41283 | H45: MIN2 | I45: 8
A46: 531220 | B46: DEWYSE | C46: ELENA | D46: WVL045 | E46: D6 | F46: 196.78 | G46: 41674 | H46: MIN1 | I46: 13
A47: 174897 | B47: JACQUEMAR | C47: ZOE | D47: L276 | E47: NC | F47: 81.5 | G47: 42208 | H47: PMIN2 | I47: 18
A48: 525762 | B48: GREGOOR | C48: GITTE | D48: Vl-B234 | E48: B2 | F48: 1325.7 | G48: 39667 | H48: JUN3 | I48: 3
A49: 169739 | B49: PIDRE RIVERA | C49: NOELIA | D49: BBW319 | E49: D6 | F49: 224.52 | G49: 41908 | H49: MIN1 | I49: 13
A50: 170748 | B50: MACARENCO | C50: SERAFIMA | D50: BBW134 | E50: C6 | F50: 543.66 | G50: 41862 | H50: MIN1 | I50: 9
A51: 166867 | B51: KOTTGEN | C51: MARYSE | D51: BBW289 | E51: D0 | F51: 465.62 | G51: 40976 | H51: CAD1 | I51: 10
A52: 530517 | B52: DE LEY | C52: LAURE | D52: A136 | E52: C6 | F52: 386.6 | G52: 41382 | H52: MIN2 | I52: 9
A53: 170129 | B53: CAVRENNE | C53: LALIE | D53: N028 | E53: D6 | F53: 136.64 | G53: 42420 | H53: PMIN1 | I53: 13
A54: 176286 | B54: DUMONT | C54: ALICIA | D54: N076 | E54: NC | F54: 91.84 | G54: 42577 | H54: PMIN1 | I54: 18
A55: 170600 | B55: SCHIPPEFILT | C55: LEANA | D55: BBW319 | E55: D6 | F55: 112.12 | G55: 42563 | H55: PMIN1 | I55: 13
A56: 169195 | B56: PIETTE | C56: ALICE | D56: N051 | E56: D2 | F56: 353 | G56: 41431 | H56: MIN2 | I56: 11
A57: 149447 | B57: LAFFINEUR | C57: LILLY | D57: N051 | E57: A10 | F57: 1705 | G57: 39757 | H57: JUN3 | I57: #N/A
A58: 531140 | B58: LAMBRECHTS | C58: JANNE | D58: LK103 | E58: D4 | F58: 397 | G58: 41806 | H58: MIN1 | I58: 12
A59: 155132 | B59: WACHEUL | C59: ROSIE | D59: H399 | E59: C0 | F59: 705 | G59: 40960 | H59: CAD1 | I59: 6
A60: 169278 | B60: RIFFLART | C60: AMANDINE | D60: BBW179 | E60: C0 | F60: 985.6 | G60: 41496 | H60: MIN2 | I60: 6
A61: 156009 | B61: RIFFLART | C61: CHARLOTTE | D61: BBW179 | E61: C0 | F61: 845.6 | G61: 41193 | H61: CAD1 | I61: 6
A62: 169279 | B62: RIFFLART | C62: TESSA | D62: BBW179 | E62: D2 | F62: 321.2 | G62: 42250 | H62: PMIN2 | I62: 11
A63: 152494 | B63: ROMAIN | C63: ANAIS | D63: N051 | E63: B2 | F63: 1241.7 | G63: 39688 | H63: JUN3 | I63: 3
A64: 529434 | B64: CLAES | C64: JUNO | D64: Vl-B234 | E64: NC | F64: 60 | G64: 42548 | H64: PMIN1 | I64: 18
A65: 524246 | B65: VERLEYE | C65: CATO | D65: WVL109 | E65: B6 | F65: 858 | G65: 40813 | H65: CAD2 | I65: 5
A66: 170782 | B66: KAISER | C66: FLORIAN | D66: BBW165 | E66: D4 | F66: 854.29 | G66: 40990 | H66: CAD1 | I66: 12
A67: 167001 | B67: CULOT | C67: TEO | D67: H004 | E67: E0 | F67: 508.62 | G67: 41399 | H67: MIN2 | I67: 14
A68: 167002 | B68: CULOT | C68: NOA | D68: H004 | E68: E6 | F68: 36.64 | G68: 42654 | H68: PMIN1 | I68: 17
A69: 166869 | B69: DOHET | C69: GABRIEL | D69: BBW289 | E69: E2 | F69: 668.96 | G69: 41575 | H69: MIN2 | I69: 15
... A231: 528331 | B231: CLAES | C231: ELIAS | D231: LK007 | E231: E0 | F231: 630.79 | G231: 41051 | H231: CAD1 | I231: 14
